BEGIN:VCALENDAR
VERSION:2.0
PRODID:-//Saugus Union School District - ECPv6.15.17.1//NONSGML v1.0//EN
CALSCALE:GREGORIAN
METHOD:PUBLISH
X-ORIGINAL-URL:https://www.saugususd.org
X-WR-CALDESC:Events for Saugus Union School District
REFRESH-INTERVAL;VALUE=DURATION:PT1H
X-Robots-Tag:noindex
X-PUBLISHED-TTL:PT1H
BEGIN:VTIMEZONE
TZID:America/Los_Angeles
BEGIN:DAYLIGHT
TZOFFSETFROM:-0800
TZOFFSETTO:-0700
TZNAME:PDT
DTSTART:20260308T100000
END:DAYLIGHT
BEGIN:STANDARD
TZOFFSETFROM:-0700
TZOFFSETTO:-0800
TZNAME:PST
DTSTART:20261101T090000
END:STANDARD
BEGIN:DAYLIGHT
TZOFFSETFROM:-0800
TZOFFSETTO:-0700
TZNAME:PDT
DTSTART:20270314T100000
END:DAYLIGHT
BEGIN:STANDARD
TZOFFSETFROM:-0700
TZOFFSETTO:-0800
TZNAME:PST
DTSTART:20271107T090000
END:STANDARD
BEGIN:DAYLIGHT
TZOFFSETFROM:-0800
TZOFFSETTO:-0700
TZNAME:PDT
DTSTART:20280312T100000
END:DAYLIGHT
BEGIN:STANDARD
TZOFFSETFROM:-0700
TZOFFSETTO:-0800
TZNAME:PST
DTSTART:20281105T090000
END:STANDARD
END:VTIMEZONE
BEGIN:VEVENT
DTSTART;VALUE=DATE:20270505
DTEND;VALUE=DATE:20270506
DTSTAMP:20260423T021614
CREATED:20251122T035618Z
LAST-MODIFIED:20251122T035618Z
UID:10000318-1809475200-1809561599@www.saugususd.org
SUMMARY:Minimum Day
DESCRIPTION:
URL:https://www.saugususd.org/calendar-event/minimum-day-16/2027-05-05
END:VEVENT
BEGIN:VEVENT
DTSTART;VALUE=DATE:20270512
DTEND;VALUE=DATE:20270513
DTSTAMP:20260423T021614
CREATED:20251122T035618Z
LAST-MODIFIED:20251122T035618Z
UID:10000319-1810080000-1810166399@www.saugususd.org
SUMMARY:Minimum Day
DESCRIPTION:
URL:https://www.saugususd.org/calendar-event/minimum-day-16/2027-05-12
END:VEVENT
BEGIN:VEVENT
DTSTART;VALUE=DATE:20270519
DTEND;VALUE=DATE:20270520
DTSTAMP:20260423T021614
CREATED:20251122T035618Z
LAST-MODIFIED:20251122T035618Z
UID:10000320-1810684800-1810771199@www.saugususd.org
SUMMARY:Minimum Day
DESCRIPTION:
URL:https://www.saugususd.org/calendar-event/minimum-day-16/2027-05-19
END:VEVENT
BEGIN:VEVENT
DTSTART;VALUE=DATE:20270526
DTEND;VALUE=DATE:20270527
DTSTAMP:20260423T021614
CREATED:20251122T035618Z
LAST-MODIFIED:20251122T035618Z
UID:10000321-1811289600-1811375999@www.saugususd.org
SUMMARY:Minimum Day
DESCRIPTION:
URL:https://www.saugususd.org/calendar-event/minimum-day-16/2027-05-26
END:VEVENT
BEGIN:VEVENT
DTSTART;VALUE=DATE:20270531
DTEND;VALUE=DATE:20270601
DTSTAMP:20260423T021614
CREATED:20251122T035742Z
LAST-MODIFIED:20251122T035742Z
UID:10000324-1811721600-1811807999@www.saugususd.org
SUMMARY:Memorial Day - District Closed
DESCRIPTION:
URL:https://www.saugususd.org/calendar-event/memorial-day-district-closed
END:VEVENT
END:VCALENDAR