BEGIN:VCALENDAR
VERSION:2.0
PRODID:-//Saugus Union School District - ECPv6.15.17.1//NONSGML v1.0//EN
CALSCALE:GREGORIAN
METHOD:PUBLISH
X-ORIGINAL-URL:https://www.saugususd.org
X-WR-CALDESC:Events for Saugus Union School District
REFRESH-INTERVAL;VALUE=DURATION:PT1H
X-Robots-Tag:noindex
X-PUBLISHED-TTL:PT1H
BEGIN:VTIMEZONE
TZID:America/Los_Angeles
BEGIN:DAYLIGHT
TZOFFSETFROM:-0800
TZOFFSETTO:-0700
TZNAME:PDT
DTSTART:20250309T100000
END:DAYLIGHT
BEGIN:STANDARD
TZOFFSETFROM:-0700
TZOFFSETTO:-0800
TZNAME:PST
DTSTART:20251102T090000
END:STANDARD
BEGIN:DAYLIGHT
TZOFFSETFROM:-0800
TZOFFSETTO:-0700
TZNAME:PDT
DTSTART:20260308T100000
END:DAYLIGHT
BEGIN:STANDARD
TZOFFSETFROM:-0700
TZOFFSETTO:-0800
TZNAME:PST
DTSTART:20261101T090000
END:STANDARD
BEGIN:DAYLIGHT
TZOFFSETFROM:-0800
TZOFFSETTO:-0700
TZNAME:PDT
DTSTART:20270314T100000
END:DAYLIGHT
BEGIN:STANDARD
TZOFFSETFROM:-0700
TZOFFSETTO:-0800
TZNAME:PST
DTSTART:20271107T090000
END:STANDARD
END:VTIMEZONE
BEGIN:VEVENT
DTSTART;VALUE=DATE:20261104
DTEND;VALUE=DATE:20261105
DTSTAMP:20260422T065943
CREATED:20251122T032431Z
LAST-MODIFIED:20251122T032431Z
UID:10000283-1793750400-1793836799@www.saugususd.org
SUMMARY:Minimum Day
DESCRIPTION:
URL:https://www.saugususd.org/calendar-event/minimum-day-9/2026-11-04
END:VEVENT
BEGIN:VEVENT
DTSTART;VALUE=DATE:20261111
DTEND;VALUE=DATE:20261112
DTSTAMP:20260422T065943
CREATED:20251122T032553Z
LAST-MODIFIED:20251122T032553Z
UID:10000284-1794355200-1794441599@www.saugususd.org
SUMMARY:Veteran's Day - District Closed
DESCRIPTION:
URL:https://www.saugususd.org/calendar-event/veterans-day-district-closed-2
END:VEVENT
BEGIN:VEVENT
DTSTART;VALUE=DATE:20261116
DTEND;VALUE=DATE:20261118
DTSTAMP:20260422T065943
CREATED:20251122T032704Z
LAST-MODIFIED:20251122T032704Z
UID:10000285-1794787200-1794959999@www.saugususd.org
SUMMARY:Minimum Day
DESCRIPTION:
URL:https://www.saugususd.org/calendar-event/minimum-day-10
END:VEVENT
BEGIN:VEVENT
DTSTART;VALUE=DATE:20261116
DTEND;VALUE=DATE:20261121
DTSTAMP:20260422T065943
CREATED:20251122T040400Z
LAST-MODIFIED:20251122T040400Z
UID:10000328-1794787200-1795219199@www.saugususd.org
SUMMARY:Progress Reports Sent Home
DESCRIPTION:
URL:https://www.saugususd.org/calendar-event/progress-reports-sent-home-4
END:VEVENT
BEGIN:VEVENT
DTSTART;TZID=America/Los_Angeles:20261117T183000
DTEND;TZID=America/Los_Angeles:20261117T183000
DTSTAMP:20260422T065943
CREATED:20251218T210028Z
LAST-MODIFIED:20251218T210028Z
UID:10000354-1794940200-1794940200@www.saugususd.org
SUMMARY:Governing Board Meeting
DESCRIPTION:
URL:https://www.saugususd.org/calendar-event/governing-board-meeting-40
LOCATION:Education Center
END:VEVENT
BEGIN:VEVENT
DTSTART;VALUE=DATE:20261118
DTEND;VALUE=DATE:20261119
DTSTAMP:20260422T065943
CREATED:20251122T032828Z
LAST-MODIFIED:20251122T032828Z
UID:10000286-1794960000-1795046399@www.saugususd.org
SUMMARY:Parent Conferences - Non-Attendance Day
DESCRIPTION:
URL:https://www.saugususd.org/calendar-event/parent-conferences-non-attendance-day
END:VEVENT
BEGIN:VEVENT
DTSTART;VALUE=DATE:20261119
DTEND;VALUE=DATE:20261121
DTSTAMP:20260422T065943
CREATED:20251122T032946Z
LAST-MODIFIED:20251122T032946Z
UID:10000287-1795046400-1795219199@www.saugususd.org
SUMMARY:Minimum Day
DESCRIPTION:
URL:https://www.saugususd.org/calendar-event/minimum-day-11
END:VEVENT
BEGIN:VEVENT
DTSTART;VALUE=DATE:20261123
DTEND;VALUE=DATE:20261128
DTSTAMP:20260422T065943
CREATED:20251122T033114Z
LAST-MODIFIED:20251122T033114Z
UID:10000288-1795392000-1795823999@www.saugususd.org
SUMMARY:Thanksgiving Break
DESCRIPTION:
URL:https://www.saugususd.org/calendar-event/thanksgiving-break-2
END:VEVENT
BEGIN:VEVENT
DTSTART;VALUE=DATE:20261125
DTEND;VALUE=DATE:20261128
DTSTAMP:20260422T065943
CREATED:20251122T033223Z
LAST-MODIFIED:20251122T033223Z
UID:10000289-1795564800-1795823999@www.saugususd.org
SUMMARY:District Closed
DESCRIPTION:
URL:https://www.saugususd.org/calendar-event/district-closed-4
END:VEVENT
END:VCALENDAR