BEGIN:VCALENDAR
VERSION:2.0
PRODID:-//Saugus Union School District - ECPv6.15.17.1//NONSGML v1.0//EN
CALSCALE:GREGORIAN
METHOD:PUBLISH
X-ORIGINAL-URL:https://www.saugususd.org
X-WR-CALDESC:Events for Saugus Union School District
REFRESH-INTERVAL;VALUE=DURATION:PT1H
X-Robots-Tag:noindex
X-PUBLISHED-TTL:PT1H
BEGIN:VTIMEZONE
TZID:America/Los_Angeles
BEGIN:DAYLIGHT
TZOFFSETFROM:-0800
TZOFFSETTO:-0700
TZNAME:PDT
DTSTART:20250309T100000
END:DAYLIGHT
BEGIN:STANDARD
TZOFFSETFROM:-0700
TZOFFSETTO:-0800
TZNAME:PST
DTSTART:20251102T090000
END:STANDARD
BEGIN:DAYLIGHT
TZOFFSETFROM:-0800
TZOFFSETTO:-0700
TZNAME:PDT
DTSTART:20260308T100000
END:DAYLIGHT
BEGIN:STANDARD
TZOFFSETFROM:-0700
TZOFFSETTO:-0800
TZNAME:PST
DTSTART:20261101T090000
END:STANDARD
BEGIN:DAYLIGHT
TZOFFSETFROM:-0800
TZOFFSETTO:-0700
TZNAME:PDT
DTSTART:20270314T100000
END:DAYLIGHT
BEGIN:STANDARD
TZOFFSETFROM:-0700
TZOFFSETTO:-0800
TZNAME:PST
DTSTART:20271107T090000
END:STANDARD
END:VTIMEZONE
BEGIN:VEVENT
DTSTART;VALUE=DATE:20261005
DTEND;VALUE=DATE:20261010
DTSTAMP:20260422T033245
CREATED:20251122T032248Z
LAST-MODIFIED:20251122T032248Z
UID:10000279-1791158400-1791590399@www.saugususd.org
SUMMARY:Fall Break
DESCRIPTION:
URL:https://www.saugususd.org/calendar-event/fall-break-3
END:VEVENT
BEGIN:VEVENT
DTSTART;VALUE=DATE:20261014
DTEND;VALUE=DATE:20261015
DTSTAMP:20260422T033245
CREATED:20251122T032431Z
LAST-MODIFIED:20251122T032431Z
UID:10000280-1791936000-1792022399@www.saugususd.org
SUMMARY:Minimum Day
DESCRIPTION:
URL:https://www.saugususd.org/calendar-event/minimum-day-9/2026-10-14
END:VEVENT
BEGIN:VEVENT
DTSTART;TZID=America/Los_Angeles:20261020T183000
DTEND;TZID=America/Los_Angeles:20261020T183000
DTSTAMP:20260422T033245
CREATED:20251218T210005Z
LAST-MODIFIED:20251218T210005Z
UID:10000353-1792521000-1792521000@www.saugususd.org
SUMMARY:Governing Board Meeting
DESCRIPTION:
URL:https://www.saugususd.org/calendar-event/governing-board-meeting-39
LOCATION:Education Center
END:VEVENT
BEGIN:VEVENT
DTSTART;VALUE=DATE:20261021
DTEND;VALUE=DATE:20261022
DTSTAMP:20260422T033245
CREATED:20251122T032431Z
LAST-MODIFIED:20251122T032431Z
UID:10000281-1792540800-1792627199@www.saugususd.org
SUMMARY:Minimum Day
DESCRIPTION:
URL:https://www.saugususd.org/calendar-event/minimum-day-9/2026-10-21
END:VEVENT
BEGIN:VEVENT
DTSTART;VALUE=DATE:20261028
DTEND;VALUE=DATE:20261029
DTSTAMP:20260422T033245
CREATED:20251122T032431Z
LAST-MODIFIED:20251122T032431Z
UID:10000282-1793145600-1793231999@www.saugususd.org
SUMMARY:Minimum Day
DESCRIPTION:
URL:https://www.saugususd.org/calendar-event/minimum-day-9/2026-10-28
END:VEVENT
END:VCALENDAR