BEGIN:VCALENDAR
VERSION:2.0
PRODID:-//Saugus Union School District - ECPv6.15.17.1//NONSGML v1.0//EN
CALSCALE:GREGORIAN
METHOD:PUBLISH
X-WR-CALNAME:Saugus Union School District
X-ORIGINAL-URL:https://www.saugususd.org
X-WR-CALDESC:Events for Saugus Union School District
REFRESH-INTERVAL;VALUE=DURATION:PT1H
X-Robots-Tag:noindex
X-PUBLISHED-TTL:PT1H
BEGIN:VTIMEZONE
TZID:America/Los_Angeles
BEGIN:DAYLIGHT
TZOFFSETFROM:-0800
TZOFFSETTO:-0700
TZNAME:PDT
DTSTART:20240310T100000
END:DAYLIGHT
BEGIN:STANDARD
TZOFFSETFROM:-0700
TZOFFSETTO:-0800
TZNAME:PST
DTSTART:20241103T090000
END:STANDARD
BEGIN:DAYLIGHT
TZOFFSETFROM:-0800
TZOFFSETTO:-0700
TZNAME:PDT
DTSTART:20250309T100000
END:DAYLIGHT
BEGIN:STANDARD
TZOFFSETFROM:-0700
TZOFFSETTO:-0800
TZNAME:PST
DTSTART:20251102T090000
END:STANDARD
BEGIN:DAYLIGHT
TZOFFSETFROM:-0800
TZOFFSETTO:-0700
TZNAME:PDT
DTSTART:20260308T100000
END:DAYLIGHT
BEGIN:STANDARD
TZOFFSETFROM:-0700
TZOFFSETTO:-0800
TZNAME:PST
DTSTART:20261101T090000
END:STANDARD
END:VTIMEZONE
BEGIN:VEVENT
DTSTART;TZID=America/Los_Angeles:20250603T183000
DTEND;TZID=America/Los_Angeles:20250603T183000
DTSTAMP:20260419T125430
CREATED:20250109T225602Z
LAST-MODIFIED:20250109T225602Z
UID:10000198-1748975400-1748975400@www.saugususd.org
SUMMARY:Governing Board Meeting
DESCRIPTION:
URL:https://www.saugususd.org/calendar-event/governing-board-meeting-15/2025-06-03
LOCATION:24930 Avenue Stanford\, Santa Clarita\, CA\, 24930 Avenue Stanford\, Santa Clarita\, CA
END:VEVENT
BEGIN:VEVENT
DTSTART;VALUE=DATE:20250604
DTEND;VALUE=DATE:20250605
DTSTAMP:20260419T125430
CREATED:20240614T173808Z
LAST-MODIFIED:20240614T173808Z
UID:10000087-1748995200-1749081599@www.saugususd.org
SUMMARY:Early Release Wednesday
DESCRIPTION:
URL:https://www.saugususd.org/calendar-event/early-release-wednesday-35
END:VEVENT
BEGIN:VEVENT
DTSTART;TZID=America/Los_Angeles:20250607T183000
DTEND;TZID=America/Los_Angeles:20250607T183000
DTSTAMP:20260419T125430
CREATED:20250303T220854Z
LAST-MODIFIED:20250303T221005Z
UID:10000228-1749321000-1749321000@www.saugususd.org
SUMMARY:Black and African American Family Focus Support Group
DESCRIPTION:Coming together to create a safe supportive place to connect with other families of children\, young and old\, with special needs\, share resources\, provide advocacy\, and be a part of an inclusive community. Join us at 6:30 p.m. via Zoom the first Wednesday of the month. Visit the CSUN Family Focus Resource Center for more information.
URL:https://www.saugususd.org/calendar-event/black-and-african-american-family-focus-support-group-2
END:VEVENT
BEGIN:VEVENT
DTSTART;VALUE=DATE:20250611
DTEND;VALUE=DATE:20250612
DTSTAMP:20260419T125430
CREATED:20240614T173808Z
LAST-MODIFIED:20240614T173808Z
UID:10000088-1749600000-1749686399@www.saugususd.org
SUMMARY:Early Release Wednesday
DESCRIPTION:
URL:https://www.saugususd.org/calendar-event/early-release-wednesday-36
END:VEVENT
BEGIN:VEVENT
DTSTART;VALUE=DATE:20250613
DTEND;VALUE=DATE:20250614
DTSTAMP:20260419T125430
CREATED:20240614T173809Z
LAST-MODIFIED:20240614T173809Z
UID:10000089-1749772800-1749859199@www.saugususd.org
SUMMARY:Last Day of School
DESCRIPTION:
URL:https://www.saugususd.org/calendar-event/last-day-of-school-2
END:VEVENT
BEGIN:VEVENT
DTSTART;VALUE=DATE:20250613
DTEND;VALUE=DATE:20250614
DTSTAMP:20260419T125430
CREATED:20240614T173809Z
LAST-MODIFIED:20240614T173809Z
UID:10000090-1749772800-1749859199@www.saugususd.org
SUMMARY:Minumum Day
DESCRIPTION:
URL:https://www.saugususd.org/calendar-event/minumum-day
END:VEVENT
BEGIN:VEVENT
DTSTART;VALUE=DATE:20250613
DTEND;VALUE=DATE:20250614
DTSTAMP:20260419T125430
CREATED:20240614T173813Z
LAST-MODIFIED:20240614T173813Z
UID:10000091-1749772800-1749859199@www.saugususd.org
SUMMARY:Progress Reports Sent Home
DESCRIPTION:
URL:https://www.saugususd.org/calendar-event/progress-reports-sent-home-3
END:VEVENT
BEGIN:VEVENT
DTSTART;TZID=America/Los_Angeles:20250614T100000
DTEND;TZID=America/Los_Angeles:20250614T100000
DTSTAMP:20260419T125430
CREATED:20250530T001202Z
LAST-MODIFIED:20250530T001535Z
UID:10000254-1749895200-1749895200@www.saugususd.org
SUMMARY:School's Out Movie Day
DESCRIPTION:How to Train Your Dragon\nSeats are limited – register today!\nPlease contact Victoria to receive registration information.\nLocation will be disclosed upon registration.
URL:https://www.saugususd.org/calendar-event/schools-out-movie-day
END:VEVENT
BEGIN:VEVENT
DTSTART;VALUE=DATE:20250619
DTEND;VALUE=DATE:20250620
DTSTAMP:20260419T125430
CREATED:20240614T173813Z
LAST-MODIFIED:20240614T173813Z
UID:10000092-1750291200-1750377599@www.saugususd.org
SUMMARY:Juneteenth - District Offices Closed
DESCRIPTION:
URL:https://www.saugususd.org/calendar-event/juneteenth-district-offices-closed
END:VEVENT
BEGIN:VEVENT
DTSTART;TZID=America/Los_Angeles:20250624T183000
DTEND;TZID=America/Los_Angeles:20250624T183000
DTSTAMP:20260419T125430
CREATED:20250109T230302Z
LAST-MODIFIED:20250109T230556Z
UID:10000209-1750789800-1750789800@www.saugususd.org
SUMMARY:Governing Board Meeting
DESCRIPTION:
URL:https://www.saugususd.org/calendar-event/governing-board-meeting-17
LOCATION:24930 Avenue Stanford\, Santa Clarita\, CA\, 24930 Avenue Stanford\, Santa Clarita\, CA
END:VEVENT
END:VCALENDAR