BEGIN:VCALENDAR
VERSION:2.0
PRODID:-//Saugus Union School District - ECPv6.15.17.1//NONSGML v1.0//EN
CALSCALE:GREGORIAN
METHOD:PUBLISH
X-ORIGINAL-URL:https://www.saugususd.org
X-WR-CALDESC:Events for Saugus Union School District
REFRESH-INTERVAL;VALUE=DURATION:PT1H
X-Robots-Tag:noindex
X-PUBLISHED-TTL:PT1H
BEGIN:VTIMEZONE
TZID:America/Los_Angeles
BEGIN:DAYLIGHT
TZOFFSETFROM:-0800
TZOFFSETTO:-0700
TZNAME:PDT
DTSTART:20240310T100000
END:DAYLIGHT
BEGIN:STANDARD
TZOFFSETFROM:-0700
TZOFFSETTO:-0800
TZNAME:PST
DTSTART:20241103T090000
END:STANDARD
BEGIN:DAYLIGHT
TZOFFSETFROM:-0800
TZOFFSETTO:-0700
TZNAME:PDT
DTSTART:20250309T100000
END:DAYLIGHT
BEGIN:STANDARD
TZOFFSETFROM:-0700
TZOFFSETTO:-0800
TZNAME:PST
DTSTART:20251102T090000
END:STANDARD
BEGIN:DAYLIGHT
TZOFFSETFROM:-0800
TZOFFSETTO:-0700
TZNAME:PDT
DTSTART:20260308T100000
END:DAYLIGHT
BEGIN:STANDARD
TZOFFSETFROM:-0700
TZOFFSETTO:-0800
TZNAME:PST
DTSTART:20261101T090000
END:STANDARD
END:VTIMEZONE
BEGIN:VEVENT
DTSTART;VALUE=DATE:20250331
DTEND;VALUE=DATE:20250404
DTSTAMP:20260419T183313
CREATED:20240614T173712Z
LAST-MODIFIED:20240614T173712Z
UID:10000073-1743379200-1743724799@www.saugususd.org
SUMMARY:Parent Conferences - Minumum Day
DESCRIPTION:
URL:https://www.saugususd.org/calendar-event/parent-conferences-minumum-day-5
END:VEVENT
BEGIN:VEVENT
DTSTART;TZID=America/Los_Angeles:20250401T183000
DTEND;TZID=America/Los_Angeles:20250401T183000
DTSTAMP:20260419T183313
CREATED:20250109T225602Z
LAST-MODIFIED:20250109T225602Z
UID:10000196-1743532200-1743532200@www.saugususd.org
SUMMARY:Governing Board Meeting
DESCRIPTION:
URL:https://www.saugususd.org/calendar-event/governing-board-meeting-15/2025-04-01
LOCATION:24930 Avenue Stanford\, Santa Clarita\, CA\, 24930 Avenue Stanford\, Santa Clarita\, CA
END:VEVENT
BEGIN:VEVENT
DTSTART;VALUE=DATE:20250402
DTEND;VALUE=DATE:20250403
DTSTAMP:20260419T183313
CREATED:20250311T161832Z
LAST-MODIFIED:20250311T161832Z
UID:10000235-1743552000-1743638399@www.saugususd.org
SUMMARY:Asset Management Advisory Committee Meeting
DESCRIPTION:
URL:https://www.saugususd.org/calendar-event/asset-management-advisory-committee-meeting-9
END:VEVENT
BEGIN:VEVENT
DTSTART;TZID=America/Los_Angeles:20250402T170000
DTEND;TZID=America/Los_Angeles:20250402T170000
DTSTAMP:20260419T183313
CREATED:20250322T005036Z
LAST-MODIFIED:20250322T005036Z
UID:10000238-1743613200-1743613200@www.saugususd.org
SUMMARY:After-School Childcare Priority Registration Opens
DESCRIPTION:After-school programs are coordinated by the Child Development Programs (CDP) Department. Information for 2025–2026 after-school childcare registration is the following: \n\n 	April 2\, 2025\, at 5:00 p.m.: Priority registration opens for TK/K families and our unduplicated count students. This is the first group able to register.\n \n 	April 16\, 2025\, at 5:00 p.m.: Registration opens for families currently enrolled in the Child Development Program.\n \n 	April 30\, 2025\, at 5:00 p.m.: Registration opens for all Saugus Union School District families (current and incoming).\n\nBeginning in the 2025–2026 school year\, our TK/K program will become a half-day program and students in these grades will be released two hours before the rest of the grade levels. We will be offering two options for families with TK/K students for after-school care: \n\n 	TK/K Option 1 (approximately 2 hours): Students stay during the transition time from their dismissal until the end of the regular school day.\n \n 	TK/K Option 2 (approximately 5.5 hours): Students stay from their dismissal until 6:00 p.m.\n \n 	Grades 1–6 (approximately 3.5 hours): Students stay from their dismissal until 6:00 p.m.\n\nPlease find additional information and registration options on the CDP Eleyo page.
URL:https://www.saugususd.org/calendar-event/after-school-childcare-priority-registration-opens
END:VEVENT
BEGIN:VEVENT
DTSTART;TZID=America/Los_Angeles:20250402T183000
DTEND;TZID=America/Los_Angeles:20250402T183000
DTSTAMP:20260419T183313
CREATED:20250303T215936Z
LAST-MODIFIED:20250303T215936Z
UID:10000226-1743618600-1743618600@www.saugususd.org
SUMMARY:Black and African American Family Focus Support Group
DESCRIPTION:Coming together to create a safe supportive place to connect with other families of children\, young and old\, with special needs\, share resources\, provide advocacy\, and be a part of an inclusive community. Join us at 6:30 p.m. via Zoom the first Wednesday of the month. Visit the CSUN Family Focus Resource Center for more information.
URL:https://www.saugususd.org/calendar-event/black-and-african-american-family-focus-support-group/2025-04-02
END:VEVENT
BEGIN:VEVENT
DTSTART;VALUE=DATE:20250404
DTEND;VALUE=DATE:20250405
DTSTAMP:20260419T183313
CREATED:20240614T173713Z
LAST-MODIFIED:20240614T173713Z
UID:10000075-1743724800-1743811199@www.saugususd.org
SUMMARY:Parent Conferences - Student Free Day
DESCRIPTION:
URL:https://www.saugususd.org/calendar-event/parent-conferences-student-free-day
END:VEVENT
BEGIN:VEVENT
DTSTART;VALUE=DATE:20250407
DTEND;VALUE=DATE:20250412
DTSTAMP:20260419T183313
CREATED:20240614T173730Z
LAST-MODIFIED:20240614T173730Z
UID:10000076-1743984000-1744415999@www.saugususd.org
SUMMARY:Spring Break
DESCRIPTION:
URL:https://www.saugususd.org/calendar-event/spring-break
END:VEVENT
BEGIN:VEVENT
DTSTART;VALUE=DATE:20250416
DTEND;VALUE=DATE:20250417
DTSTAMP:20260419T183313
CREATED:20240614T173730Z
LAST-MODIFIED:20240614T173730Z
UID:10000077-1744761600-1744847999@www.saugususd.org
SUMMARY:Early Release Wednesday
DESCRIPTION:
URL:https://www.saugususd.org/calendar-event/early-release-wednesday-28
END:VEVENT
BEGIN:VEVENT
DTSTART;TZID=America/Los_Angeles:20250416T170000
DTEND;TZID=America/Los_Angeles:20250416T170000
DTSTAMP:20260419T183313
CREATED:20250322T005150Z
LAST-MODIFIED:20250322T005150Z
UID:10000239-1744822800-1744822800@www.saugususd.org
SUMMARY:After-School Childcare Registration Opens - Current CDP Families
DESCRIPTION:After-school programs are coordinated by the Child Development Programs (CDP) Department. Information for 2025–2026 after-school childcare registration is the following: \n\n 	April 2\, 2025\, at 5:00 p.m.: Priority registration opens for TK/K families and our unduplicated count students. This is the first group able to register.\n \n 	April 16\, 2025\, at 5:00 p.m.: Registration opens for families currently enrolled in the Child Development Program.\n \n 	April 30\, 2025\, at 5:00 p.m.: Registration opens for all Saugus Union School District families (current and incoming).\n\nBeginning in the 2025–2026 school year\, our TK/K program will become a half-day program and students in these grades will be released two hours before the rest of the grade levels. We will be offering two options for families with TK/K students for after-school care: \n\n 	TK/K Option 1 (approximately 2 hours): Students stay during the transition time from their dismissal until the end of the regular school day.\n \n 	TK/K Option 2 (approximately 5.5 hours): Students stay from their dismissal until 6:00 p.m.\n \n 	Grades 1–6 (approximately 3.5 hours): Students stay from their dismissal until 6:00 p.m.\n\nPlease find additional information and registration options on the CDP Eleyo page.
URL:https://www.saugususd.org/calendar-event/after-school-childcare-registration-opens-current-cdp-families
END:VEVENT
BEGIN:VEVENT
DTSTART;VALUE=DATE:20250418
DTEND;VALUE=DATE:20250419
DTSTAMP:20260419T183313
CREATED:20250325T012346Z
LAST-MODIFIED:20250325T012346Z
UID:10000242-1744934400-1745020799@www.saugususd.org
SUMMARY:Dr. Joan Lucid Award Nominations End
DESCRIPTION:
URL:https://www.saugususd.org/calendar-event/dr-joan-lucid-award-nominations-end
END:VEVENT
BEGIN:VEVENT
DTSTART;VALUE=DATE:20250423
DTEND;VALUE=DATE:20250424
DTSTAMP:20260419T183313
CREATED:20240614T173731Z
LAST-MODIFIED:20240614T173731Z
UID:10000078-1745366400-1745452799@www.saugususd.org
SUMMARY:Early Release Wednesday
DESCRIPTION:
URL:https://www.saugususd.org/calendar-event/early-release-wednesday-29
END:VEVENT
BEGIN:VEVENT
DTSTART;VALUE=DATE:20250430
DTEND;VALUE=DATE:20250501
DTSTAMP:20260419T183313
CREATED:20240614T173731Z
LAST-MODIFIED:20240614T173731Z
UID:10000079-1745971200-1746057599@www.saugususd.org
SUMMARY:Early Release Wednesday
DESCRIPTION:
URL:https://www.saugususd.org/calendar-event/early-release-wednesday-30
END:VEVENT
BEGIN:VEVENT
DTSTART;TZID=America/Los_Angeles:20250430T170000
DTEND;TZID=America/Los_Angeles:20250430T170000
DTSTAMP:20260419T183313
CREATED:20250322T005307Z
LAST-MODIFIED:20250322T005754Z
UID:10000240-1746032400-1746032400@www.saugususd.org
SUMMARY:After-School Childcare Registration Opens - All SUSD Families
DESCRIPTION:After-school programs are coordinated by the Child Development Programs (CDP) Department. Information for 2025–2026 after-school childcare registration is the following: \n\n\n\n\nApril 2\, 2025\, at 5:00 p.m.: Priority registration opens for TK/K families and our unduplicated count students. This is the first group able to register.\n\n\n\nApril 16\, 2025\, at 5:00 p.m.: Registration opens for families currently enrolled in the Child Development Program.\n\n\n\nApril 30\, 2025\, at 5:00 p.m.: Registration opens for all Saugus Union School District families (current and incoming).\n\nBeginning in the 2025–2026 school year\, our TK/K program will become a half-day program and students in these grades will be released two hours before the rest of the grade levels. We will be offering two options for families with TK/K students for after-school care: \n\n\n\n\nTK/K Option 1 (approximately 2 hours): Students stay during the transition time from their dismissal until the end of the regular school day.\n\n\n\nTK/K Option 2 (approximately 5.5 hours): Students stay from their dismissal until 6:00 p.m.\n\n\n\nGrades 1–6 (approximately 3.5 hours): Students stay from their dismissal until 6:00 p.m.\n\nPlease find additional information and registration options on the CDP Eleyo page.
URL:https://www.saugususd.org/calendar-event/after-school-childcare-registration-opens-all-susd-families
END:VEVENT
BEGIN:VEVENT
DTSTART;TZID=America/Los_Angeles:20250430T183000
DTEND;TZID=America/Los_Angeles:20250430T183000
DTSTAMP:20260419T183313
CREATED:20250311T161914Z
LAST-MODIFIED:20250417T001018Z
UID:10000236-1746037800-1746037800@www.saugususd.org
SUMMARY:Asset Management Advisory Committee Meeting
DESCRIPTION:
URL:https://www.saugususd.org/calendar-event/asset-management-advisory-committee-meeting-10
LOCATION:Bridgeport Elementary School
END:VEVENT
END:VCALENDAR