BEGIN:VCALENDAR
VERSION:2.0
PRODID:-//Saugus Union School District - ECPv6.15.17.1//NONSGML v1.0//EN
CALSCALE:GREGORIAN
METHOD:PUBLISH
X-WR-CALNAME:Saugus Union School District
X-ORIGINAL-URL:https://www.saugususd.org
X-WR-CALDESC:Events for Saugus Union School District
REFRESH-INTERVAL;VALUE=DURATION:PT1H
X-Robots-Tag:noindex
X-PUBLISHED-TTL:PT1H
BEGIN:VTIMEZONE
TZID:America/Los_Angeles
BEGIN:DAYLIGHT
TZOFFSETFROM:-0800
TZOFFSETTO:-0700
TZNAME:PDT
DTSTART:20240310T100000
END:DAYLIGHT
BEGIN:STANDARD
TZOFFSETFROM:-0700
TZOFFSETTO:-0800
TZNAME:PST
DTSTART:20241103T090000
END:STANDARD
BEGIN:DAYLIGHT
TZOFFSETFROM:-0800
TZOFFSETTO:-0700
TZNAME:PDT
DTSTART:20250309T100000
END:DAYLIGHT
BEGIN:STANDARD
TZOFFSETFROM:-0700
TZOFFSETTO:-0800
TZNAME:PST
DTSTART:20251102T090000
END:STANDARD
BEGIN:DAYLIGHT
TZOFFSETFROM:-0800
TZOFFSETTO:-0700
TZNAME:PDT
DTSTART:20260308T100000
END:DAYLIGHT
BEGIN:STANDARD
TZOFFSETFROM:-0700
TZOFFSETTO:-0800
TZNAME:PST
DTSTART:20261101T090000
END:STANDARD
END:VTIMEZONE
BEGIN:VEVENT
DTSTART;TZID=America/Los_Angeles:20250304T183000
DTEND;TZID=America/Los_Angeles:20250304T183000
DTSTAMP:20260419T200359
CREATED:20250109T225602Z
LAST-MODIFIED:20250109T225602Z
UID:10000194-1741113000-1741113000@www.saugususd.org
SUMMARY:Governing Board Meeting
DESCRIPTION:
URL:https://www.saugususd.org/calendar-event/governing-board-meeting-15/2025-03-04
LOCATION:24930 Avenue Stanford\, Santa Clarita\, CA\, 24930 Avenue Stanford\, Santa Clarita\, CA
END:VEVENT
BEGIN:VEVENT
DTSTART;VALUE=DATE:20250305
DTEND;VALUE=DATE:20250306
DTSTAMP:20260419T200359
CREATED:20240614T173634Z
LAST-MODIFIED:20240614T173634Z
UID:10000068-1741132800-1741219199@www.saugususd.org
SUMMARY:Early Release Wednesday
DESCRIPTION:
URL:https://www.saugususd.org/calendar-event/early-release-wednesday-24
END:VEVENT
BEGIN:VEVENT
DTSTART;TZID=America/Los_Angeles:20250305T183000
DTEND;TZID=America/Los_Angeles:20250305T183000
DTSTAMP:20260419T200359
CREATED:20250301T010218Z
LAST-MODIFIED:20250301T010218Z
UID:10000223-1741199400-1741199400@www.saugususd.org
SUMMARY:Asset Management Advisory Committee Meeting
DESCRIPTION:
URL:https://www.saugususd.org/calendar-event/asset-management-advisory-committee-meeting-8
LOCATION:District Office\, Bramlett Room
END:VEVENT
BEGIN:VEVENT
DTSTART;TZID=America/Los_Angeles:20250305T183000
DTEND;TZID=America/Los_Angeles:20250305T183000
DTSTAMP:20260419T200359
CREATED:20250303T215936Z
LAST-MODIFIED:20250303T215936Z
UID:10000225-1741199400-1741199400@www.saugususd.org
SUMMARY:Black and African American Family Focus Support Group
DESCRIPTION:Coming together to create a safe supportive place to connect with other families of children\, young and old\, with special needs\, share resources\, provide advocacy\, and be a part of an inclusive community. Join us at 6:30 p.m. via Zoom the first Wednesday of the month. Visit the CSUN Family Focus Resource Center for more information.
URL:https://www.saugususd.org/calendar-event/black-and-african-american-family-focus-support-group/2025-03-05
END:VEVENT
BEGIN:VEVENT
DTSTART;TZID=America/Los_Angeles:20250306T180000
DTEND;TZID=America/Los_Angeles:20250306T180000
DTSTAMP:20260419T200359
CREATED:20250301T005740Z
LAST-MODIFIED:20250301T010345Z
UID:10000222-1741284000-1741284000@www.saugususd.org
SUMMARY:Measure EE Citizens Oversight Committee Meeting
DESCRIPTION:
URL:https://www.saugususd.org/calendar-event/measure-ee-citizens-oversight-committee-meeting-4
LOCATION:District Office\, Bramlett Room
END:VEVENT
BEGIN:VEVENT
DTSTART;VALUE=DATE:20250312
DTEND;VALUE=DATE:20250313
DTSTAMP:20260419T200359
CREATED:20240614T173635Z
LAST-MODIFIED:20240614T173635Z
UID:10000069-1741737600-1741823999@www.saugususd.org
SUMMARY:Early Release Wednesday
DESCRIPTION:
URL:https://www.saugususd.org/calendar-event/early-release-wednesday-25
END:VEVENT
BEGIN:VEVENT
DTSTART;TZID=America/Los_Angeles:20250318T183000
DTEND;TZID=America/Los_Angeles:20250318T183000
DTSTAMP:20260419T200359
CREATED:20250109T225602Z
LAST-MODIFIED:20250109T225602Z
UID:10000195-1742322600-1742322600@www.saugususd.org
SUMMARY:Governing Board Meeting
DESCRIPTION:
URL:https://www.saugususd.org/calendar-event/governing-board-meeting-15/2025-03-18
LOCATION:24930 Avenue Stanford\, Santa Clarita\, CA\, 24930 Avenue Stanford\, Santa Clarita\, CA
END:VEVENT
BEGIN:VEVENT
DTSTART;VALUE=DATE:20250319
DTEND;VALUE=DATE:20250320
DTSTAMP:20260419T200359
CREATED:20240614T173635Z
LAST-MODIFIED:20240614T173635Z
UID:10000070-1742342400-1742428799@www.saugususd.org
SUMMARY:Early Release Wednesday
DESCRIPTION:
URL:https://www.saugususd.org/calendar-event/early-release-wednesday-26
END:VEVENT
BEGIN:VEVENT
DTSTART;VALUE=DATE:20250321
DTEND;VALUE=DATE:20250322
DTSTAMP:20260419T200359
CREATED:20240614T173711Z
LAST-MODIFIED:20240614T173711Z
UID:10000071-1742515200-1742601599@www.saugususd.org
SUMMARY:Upper Grade Minimum Day
DESCRIPTION:
URL:https://www.saugususd.org/calendar-event/upper-grade-minimum-day
END:VEVENT
BEGIN:VEVENT
DTSTART;VALUE=DATE:20250324
DTEND;VALUE=DATE:20250325
DTSTAMP:20260419T200359
CREATED:20250325T012106Z
LAST-MODIFIED:20250325T012208Z
UID:10000241-1742774400-1742860799@www.saugususd.org
SUMMARY:Dr. Joan Lucid Award Nominations Begin
DESCRIPTION:
URL:https://www.saugususd.org/calendar-event/dr-joan-lucid-award-nominations-begin
END:VEVENT
BEGIN:VEVENT
DTSTART;VALUE=DATE:20250326
DTEND;VALUE=DATE:20250327
DTSTAMP:20260419T200359
CREATED:20240614T173712Z
LAST-MODIFIED:20240614T173712Z
UID:10000072-1742947200-1743033599@www.saugususd.org
SUMMARY:Early Release Wednesday
DESCRIPTION:
URL:https://www.saugususd.org/calendar-event/early-release-wednesday-27
END:VEVENT
BEGIN:VEVENT
DTSTART;TZID=America/Los_Angeles:20250326T110000
DTEND;TZID=America/Los_Angeles:20250326T123000
DTSTAMP:20260419T200359
CREATED:20250303T212557Z
LAST-MODIFIED:20250303T212557Z
UID:10000224-1742986800-1742992200@www.saugususd.org
SUMMARY:A Beginner's Guide to Special Needs Planning
DESCRIPTION:Join David Terk\, Regional Director of the Special Needs Planning Institute for this informative look at why comprehensive Special Needs planning is so important and the peace of mind it can bring families. Learn about the four areas of planning that will toucha disabled loved one’s life. Register online.
URL:https://www.saugususd.org/calendar-event/a-beginners-guide-to-special-needs-planning
END:VEVENT
BEGIN:VEVENT
DTSTART;VALUE=DATE:20250331
DTEND;VALUE=DATE:20250401
DTSTAMP:20260419T200359
CREATED:20240614T173713Z
LAST-MODIFIED:20240614T173713Z
UID:10000074-1743379200-1743465599@www.saugususd.org
SUMMARY:Progress Reports Sent Home
DESCRIPTION:
URL:https://www.saugususd.org/calendar-event/progress-reports-sent-home-2
END:VEVENT
BEGIN:VEVENT
DTSTART;VALUE=DATE:20250331
DTEND;VALUE=DATE:20250404
DTSTAMP:20260419T200359
CREATED:20240614T173712Z
LAST-MODIFIED:20240614T173712Z
UID:10000073-1743379200-1743724799@www.saugususd.org
SUMMARY:Parent Conferences - Minumum Day
DESCRIPTION:
URL:https://www.saugususd.org/calendar-event/parent-conferences-minumum-day-5
END:VEVENT
END:VCALENDAR