BEGIN:VCALENDAR
VERSION:2.0
PRODID:-//Saugus Union School District - ECPv6.15.17.1//NONSGML v1.0//EN
CALSCALE:GREGORIAN
METHOD:PUBLISH
X-WR-CALNAME:Saugus Union School District
X-ORIGINAL-URL:https://www.saugususd.org
X-WR-CALDESC:Events for Saugus Union School District
REFRESH-INTERVAL;VALUE=DURATION:PT1H
X-Robots-Tag:noindex
X-PUBLISHED-TTL:PT1H
BEGIN:VTIMEZONE
TZID:America/Los_Angeles
BEGIN:DAYLIGHT
TZOFFSETFROM:-0800
TZOFFSETTO:-0700
TZNAME:PDT
DTSTART:20240310T100000
END:DAYLIGHT
BEGIN:STANDARD
TZOFFSETFROM:-0700
TZOFFSETTO:-0800
TZNAME:PST
DTSTART:20241103T090000
END:STANDARD
BEGIN:DAYLIGHT
TZOFFSETFROM:-0800
TZOFFSETTO:-0700
TZNAME:PDT
DTSTART:20250309T100000
END:DAYLIGHT
BEGIN:STANDARD
TZOFFSETFROM:-0700
TZOFFSETTO:-0800
TZNAME:PST
DTSTART:20251102T090000
END:STANDARD
BEGIN:DAYLIGHT
TZOFFSETFROM:-0800
TZOFFSETTO:-0700
TZNAME:PDT
DTSTART:20260308T100000
END:DAYLIGHT
BEGIN:STANDARD
TZOFFSETFROM:-0700
TZOFFSETTO:-0800
TZNAME:PST
DTSTART:20261101T090000
END:STANDARD
END:VTIMEZONE
BEGIN:VEVENT
DTSTART;TZID=America/Los_Angeles:20250204T183000
DTEND;TZID=America/Los_Angeles:20250204T183000
DTSTAMP:20260419T200400
CREATED:20250109T224950Z
LAST-MODIFIED:20250109T224950Z
UID:10000190-1738693800-1738693800@www.saugususd.org
SUMMARY:Governing Board Meeting
DESCRIPTION:
URL:https://www.saugususd.org/calendar-event/governing-board-meeting-13
LOCATION:24930 Avenue Stanford\, Santa Clarita\, CA\, 24930 Avenue Stanford\, Santa Clarita\, CA
END:VEVENT
BEGIN:VEVENT
DTSTART;VALUE=DATE:20250205
DTEND;VALUE=DATE:20250206
DTSTAMP:20260419T200400
CREATED:20240614T173545Z
LAST-MODIFIED:20240614T173545Z
UID:10000062-1738713600-1738799999@www.saugususd.org
SUMMARY:Early Release Wednesday
DESCRIPTION:
URL:https://www.saugususd.org/calendar-event/early-release-wednesday-20
END:VEVENT
BEGIN:VEVENT
DTSTART;TZID=America/Los_Angeles:20250205T173000
DTEND;TZID=America/Los_Angeles:20250205T173000
DTSTAMP:20260419T200400
CREATED:20250109T225118Z
LAST-MODIFIED:20250113T223012Z
UID:10000191-1738776600-1738776600@www.saugususd.org
SUMMARY:Special Governing Board Meeting
DESCRIPTION:Behavior Challenges in SUSD – Session 1
URL:https://www.saugususd.org/calendar-event/special-governing-board-meeting-4
LOCATION:Bridgeport Elementary School
END:VEVENT
BEGIN:VEVENT
DTSTART;VALUE=DATE:20250212
DTEND;VALUE=DATE:20250213
DTSTAMP:20260419T200400
CREATED:20240614T173546Z
LAST-MODIFIED:20240614T173546Z
UID:10000063-1739318400-1739404799@www.saugususd.org
SUMMARY:Early Release Wednesday
DESCRIPTION:
URL:https://www.saugususd.org/calendar-event/early-release-wednesday-21
END:VEVENT
BEGIN:VEVENT
DTSTART;VALUE=DATE:20250212
DTEND;VALUE=DATE:20250213
DTSTAMP:20260419T200400
CREATED:20241106T233500Z
LAST-MODIFIED:20241106T233500Z
UID:10000117-1739318400-1739404799@www.saugususd.org
SUMMARY:Asset Management Advisory Committee Meeting
DESCRIPTION:
URL:https://www.saugususd.org/calendar-event/asset-management-advisory-committee-meeting-6
END:VEVENT
BEGIN:VEVENT
DTSTART;VALUE=DATE:20250214
DTEND;VALUE=DATE:20250215
DTSTAMP:20260419T200400
CREATED:20240614T173546Z
LAST-MODIFIED:20240614T173546Z
UID:10000064-1739491200-1739577599@www.saugususd.org
SUMMARY:Lincoln's Birthday - District Closed
DESCRIPTION:
URL:https://www.saugususd.org/calendar-event/lincolns-birthday-district-closed
END:VEVENT
BEGIN:VEVENT
DTSTART;VALUE=DATE:20250217
DTEND;VALUE=DATE:20250218
DTSTAMP:20260419T200400
CREATED:20240614T173547Z
LAST-MODIFIED:20240614T173547Z
UID:10000065-1739750400-1739836799@www.saugususd.org
SUMMARY:President's Day - District Closed
DESCRIPTION:
URL:https://www.saugususd.org/calendar-event/presidents-day-district-closed
END:VEVENT
BEGIN:VEVENT
DTSTART;TZID=America/Los_Angeles:20250218T183000
DTEND;TZID=America/Los_Angeles:20250218T183000
DTSTAMP:20260419T200400
CREATED:20250109T225223Z
LAST-MODIFIED:20250109T225223Z
UID:10000192-1739903400-1739903400@www.saugususd.org
SUMMARY:Governing Board Meeting
DESCRIPTION:
URL:https://www.saugususd.org/calendar-event/governing-board-meeting-14
LOCATION:24930 Avenue Stanford\, Santa Clarita\, CA\, 24930 Avenue Stanford\, Santa Clarita\, CA
END:VEVENT
BEGIN:VEVENT
DTSTART;VALUE=DATE:20250219
DTEND;VALUE=DATE:20250220
DTSTAMP:20260419T200400
CREATED:20240614T173633Z
LAST-MODIFIED:20240614T173633Z
UID:10000066-1739923200-1740009599@www.saugususd.org
SUMMARY:Early Release Wednesday
DESCRIPTION:
URL:https://www.saugususd.org/calendar-event/early-release-wednesday-22
END:VEVENT
BEGIN:VEVENT
DTSTART;TZID=America/Los_Angeles:20250224T180000
DTEND;TZID=America/Los_Angeles:20250224T180000
DTSTAMP:20260419T200400
CREATED:20250219T190326Z
LAST-MODIFIED:20250219T190326Z
UID:10000221-1740420000-1740420000@www.saugususd.org
SUMMARY:SCV Trustees Association Meeting
DESCRIPTION:
URL:https://www.saugususd.org/calendar-event/scv-trustees-association-meeting
LOCATION:Newhall School District Offices
END:VEVENT
BEGIN:VEVENT
DTSTART;VALUE=DATE:20250226
DTEND;VALUE=DATE:20250227
DTSTAMP:20260419T200400
CREATED:20240614T173634Z
LAST-MODIFIED:20240614T173634Z
UID:10000067-1740528000-1740614399@www.saugususd.org
SUMMARY:Early Release Wednesday
DESCRIPTION:
URL:https://www.saugususd.org/calendar-event/early-release-wednesday-23
END:VEVENT
END:VCALENDAR