BEGIN:VCALENDAR
VERSION:2.0
PRODID:-//Saugus Union School District - ECPv6.15.17.1//NONSGML v1.0//EN
CALSCALE:GREGORIAN
METHOD:PUBLISH
X-ORIGINAL-URL:https://www.saugususd.org
X-WR-CALDESC:Events for Saugus Union School District
REFRESH-INTERVAL;VALUE=DURATION:PT1H
X-Robots-Tag:noindex
X-PUBLISHED-TTL:PT1H
BEGIN:VTIMEZONE
TZID:America/Los_Angeles
BEGIN:DAYLIGHT
TZOFFSETFROM:-0800
TZOFFSETTO:-0700
TZNAME:PDT
DTSTART:20240310T100000
END:DAYLIGHT
BEGIN:STANDARD
TZOFFSETFROM:-0700
TZOFFSETTO:-0800
TZNAME:PST
DTSTART:20241103T090000
END:STANDARD
BEGIN:DAYLIGHT
TZOFFSETFROM:-0800
TZOFFSETTO:-0700
TZNAME:PDT
DTSTART:20250309T100000
END:DAYLIGHT
BEGIN:STANDARD
TZOFFSETFROM:-0700
TZOFFSETTO:-0800
TZNAME:PST
DTSTART:20251102T090000
END:STANDARD
BEGIN:DAYLIGHT
TZOFFSETFROM:-0800
TZOFFSETTO:-0700
TZNAME:PDT
DTSTART:20260308T100000
END:DAYLIGHT
BEGIN:STANDARD
TZOFFSETFROM:-0700
TZOFFSETTO:-0800
TZNAME:PST
DTSTART:20261101T090000
END:STANDARD
END:VTIMEZONE
BEGIN:VEVENT
DTSTART;VALUE=DATE:20250917
DTEND;VALUE=DATE:20250918
DTSTAMP:20260419T213732
CREATED:20250108T005433Z
LAST-MODIFIED:20250108T014513Z
UID:10000129-1758067200-1758153599@www.saugususd.org
SUMMARY:Early Release Wednesday
DESCRIPTION:
URL:https://www.saugususd.org/calendar-event/early-release-2/2025-09-17
END:VEVENT
BEGIN:VEVENT
DTSTART;TZID=America/Los_Angeles:20250916T183000
DTEND;TZID=America/Los_Angeles:20250916T183000
DTSTAMP:20260419T213732
CREATED:20250109T231101Z
LAST-MODIFIED:20250109T231101Z
UID:10000212-1758047400-1758047400@www.saugususd.org
SUMMARY:Governing Board Meeting
DESCRIPTION:
URL:https://www.saugususd.org/calendar-event/governing-board-meeting-20
END:VEVENT
BEGIN:VEVENT
DTSTART;TZID=America/Los_Angeles:20250915T180000
DTEND;TZID=America/Los_Angeles:20250915T180000
DTSTAMP:20260419T213732
CREATED:20250518T121922Z
LAST-MODIFIED:20250915T232145Z
UID:10000245-1757959200-1757959200@www.saugususd.org
SUMMARY:CAC Meeting
DESCRIPTION:Virtual Google Meet\nGrowing Stronger Together
URL:https://www.saugususd.org/calendar-event/cac-meeting
END:VEVENT
BEGIN:VEVENT
DTSTART;VALUE=DATE:20250910
DTEND;VALUE=DATE:20250911
DTSTAMP:20260419T213732
CREATED:20250108T005433Z
LAST-MODIFIED:20250108T014513Z
UID:10000128-1757462400-1757548799@www.saugususd.org
SUMMARY:Early Release Wednesday
DESCRIPTION:
URL:https://www.saugususd.org/calendar-event/early-release-2/2025-09-10
END:VEVENT
BEGIN:VEVENT
DTSTART;TZID=America/Los_Angeles:20250904T180000
DTEND;TZID=America/Los_Angeles:20250904T180000
DTSTAMP:20260419T213732
CREATED:20250830T002728Z
LAST-MODIFIED:20250830T002728Z
UID:10000258-1757008800-1757008800@www.saugususd.org
SUMMARY:Measure EE Meeting
DESCRIPTION:Agenda
URL:https://www.saugususd.org/calendar-event/measure-ee-meeting
LOCATION:James Foster Elementary\, 22500 Pamplico Drive\, Saugus\, CA\, 91350\, United States
END:VEVENT
BEGIN:VEVENT
DTSTART;TZID=America/Los_Angeles:20250903T183000
DTEND;TZID=America/Los_Angeles:20250903T183000
DTSTAMP:20260419T213732
CREATED:20250303T215936Z
LAST-MODIFIED:20250303T215936Z
UID:10000231-1756924200-1756924200@www.saugususd.org
SUMMARY:Black and African American Family Focus Support Group
DESCRIPTION:Coming together to create a safe supportive place to connect with other families of children\, young and old\, with special needs\, share resources\, provide advocacy\, and be a part of an inclusive community. Join us at 6:30 p.m. via Zoom the first Wednesday of the month. Visit the CSUN Family Focus Resource Center for more information.
URL:https://www.saugususd.org/calendar-event/black-and-african-american-family-focus-support-group/2025-09-03
END:VEVENT
BEGIN:VEVENT
DTSTART;VALUE=DATE:20250903
DTEND;VALUE=DATE:20250904
DTSTAMP:20260419T213732
CREATED:20250108T005433Z
LAST-MODIFIED:20250108T014513Z
UID:10000127-1756857600-1756943999@www.saugususd.org
SUMMARY:Early Release Wednesday
DESCRIPTION:
URL:https://www.saugususd.org/calendar-event/early-release-2/2025-09-03
END:VEVENT
BEGIN:VEVENT
DTSTART;TZID=America/Los_Angeles:20250902T183000
DTEND;TZID=America/Los_Angeles:20250902T183000
DTSTAMP:20260419T213732
CREATED:20250109T225602Z
LAST-MODIFIED:20250109T225602Z
UID:10000201-1756837800-1756837800@www.saugususd.org
SUMMARY:Governing Board Meeting
DESCRIPTION:
URL:https://www.saugususd.org/calendar-event/governing-board-meeting-15/2025-09-02
LOCATION:24930 Avenue Stanford\, Santa Clarita\, CA\, 24930 Avenue Stanford\, Santa Clarita\, CA
END:VEVENT
BEGIN:VEVENT
DTSTART;VALUE=DATE:20250901
DTEND;VALUE=DATE:20250902
DTSTAMP:20260419T213732
CREATED:20250108T005540Z
LAST-MODIFIED:20250108T005540Z
UID:10000132-1756684800-1756771199@www.saugususd.org
SUMMARY:Labor Day - No School (District Closed)
DESCRIPTION:
URL:https://www.saugususd.org/calendar-event/labor-day-no-school-district-closed
END:VEVENT
BEGIN:VEVENT
DTSTART;VALUE=DATE:20250827
DTEND;VALUE=DATE:20250828
DTSTAMP:20260419T213732
CREATED:20250108T005433Z
LAST-MODIFIED:20250108T014513Z
UID:10000126-1756252800-1756339199@www.saugususd.org
SUMMARY:Early Release Wednesday
DESCRIPTION:
URL:https://www.saugususd.org/calendar-event/early-release-2/2025-08-27
END:VEVENT
BEGIN:VEVENT
DTSTART;VALUE=DATE:20250820
DTEND;VALUE=DATE:20250821
DTSTAMP:20260419T213732
CREATED:20250108T005433Z
LAST-MODIFIED:20250108T014513Z
UID:10000125-1755648000-1755734399@www.saugususd.org
SUMMARY:Early Release Wednesday
DESCRIPTION:
URL:https://www.saugususd.org/calendar-event/early-release-2/2025-08-20
END:VEVENT
BEGIN:VEVENT
DTSTART;TZID=America/Los_Angeles:20250819T183000
DTEND;TZID=America/Los_Angeles:20250819T183000
DTSTAMP:20260419T213732
CREATED:20250109T231008Z
LAST-MODIFIED:20250109T231008Z
UID:10000211-1755628200-1755628200@www.saugususd.org
SUMMARY:Governing Board Meeting
DESCRIPTION:
URL:https://www.saugususd.org/calendar-event/governing-board-meeting-19
LOCATION:24930 Avenue Stanford\, Santa Clarita\, CA\, 24930 Avenue Stanford\, Santa Clarita\, CA
END:VEVENT
BEGIN:VEVENT
DTSTART;VALUE=DATE:20250813
DTEND;VALUE=DATE:20250814
DTSTAMP:20260419T213732
CREATED:20250108T005433Z
LAST-MODIFIED:20250108T014513Z
UID:10000124-1755043200-1755129599@www.saugususd.org
SUMMARY:Early Release Wednesday
DESCRIPTION:
URL:https://www.saugususd.org/calendar-event/early-release-2/2025-08-13
END:VEVENT
BEGIN:VEVENT
DTSTART;VALUE=DATE:20250813
DTEND;VALUE=DATE:20250814
DTSTAMP:20260419T213732
CREATED:20250108T005209Z
LAST-MODIFIED:20250108T005209Z
UID:10000123-1755043200-1755129599@www.saugususd.org
SUMMARY:Students Return
DESCRIPTION:
URL:https://www.saugususd.org/calendar-event/students-return
END:VEVENT
BEGIN:VEVENT
DTSTART;VALUE=DATE:20250811
DTEND;VALUE=DATE:20250813
DTSTAMP:20260419T213732
CREATED:20250108T005037Z
LAST-MODIFIED:20250108T005037Z
UID:10000122-1754870400-1755043199@www.saugususd.org
SUMMARY:Staff Development Day
DESCRIPTION:
URL:https://www.saugususd.org/calendar-event/staff-development-day-3
END:VEVENT
BEGIN:VEVENT
DTSTART;VALUE=DATE:20250808
DTEND;VALUE=DATE:20250809
DTSTAMP:20260419T213732
CREATED:20250108T004946Z
LAST-MODIFIED:20250108T004946Z
UID:10000121-1754611200-1754697599@www.saugususd.org
SUMMARY:Staff Development Day
DESCRIPTION:
URL:https://www.saugususd.org/calendar-event/staff-development-day-2
END:VEVENT
BEGIN:VEVENT
DTSTART;VALUE=DATE:20250807
DTEND;VALUE=DATE:20250808
DTSTAMP:20260419T213732
CREATED:20250108T004857Z
LAST-MODIFIED:20250108T004857Z
UID:10000120-1754524800-1754611199@www.saugususd.org
SUMMARY:Teachers Return - Staff Development Day
DESCRIPTION:
URL:https://www.saugususd.org/calendar-event/teachers-return-staff-development-day
END:VEVENT
BEGIN:VEVENT
DTSTART;TZID=America/Los_Angeles:20250805T183000
DTEND;TZID=America/Los_Angeles:20250805T183000
DTSTAMP:20260419T213732
CREATED:20250109T225602Z
LAST-MODIFIED:20250109T225602Z
UID:10000200-1754418600-1754418600@www.saugususd.org
SUMMARY:Governing Board Meeting
DESCRIPTION:
URL:https://www.saugususd.org/calendar-event/governing-board-meeting-15/2025-08-05
LOCATION:24930 Avenue Stanford\, Santa Clarita\, CA\, 24930 Avenue Stanford\, Santa Clarita\, CA
END:VEVENT
BEGIN:VEVENT
DTSTART;VALUE=DATE:20250715
DTEND;VALUE=DATE:20250716
DTSTAMP:20260419T213732
CREATED:20250711T065341Z
LAST-MODIFIED:20250711T065341Z
UID:10000255-1752537600-1752623999@www.saugususd.org
SUMMARY:Governing Board Meeting - Cancelled
DESCRIPTION:
URL:https://www.saugususd.org/calendar-event/governing-board-meeting-cancelled
END:VEVENT
BEGIN:VEVENT
DTSTART;VALUE=DATE:20250704
DTEND;VALUE=DATE:20250705
DTSTAMP:20260419T213732
CREATED:20250108T004740Z
LAST-MODIFIED:20250108T004740Z
UID:10000119-1751587200-1751673599@www.saugususd.org
SUMMARY:Independence Day - District Closed
DESCRIPTION:
URL:https://www.saugususd.org/calendar-event/independence-day-district-closed
END:VEVENT
BEGIN:VEVENT
DTSTART;TZID=America/Los_Angeles:20250624T183000
DTEND;TZID=America/Los_Angeles:20250624T183000
DTSTAMP:20260419T213732
CREATED:20250109T230302Z
LAST-MODIFIED:20250109T230556Z
UID:10000209-1750789800-1750789800@www.saugususd.org
SUMMARY:Governing Board Meeting
DESCRIPTION:
URL:https://www.saugususd.org/calendar-event/governing-board-meeting-17
LOCATION:24930 Avenue Stanford\, Santa Clarita\, CA\, 24930 Avenue Stanford\, Santa Clarita\, CA
END:VEVENT
BEGIN:VEVENT
DTSTART;VALUE=DATE:20250619
DTEND;VALUE=DATE:20250620
DTSTAMP:20260419T213732
CREATED:20240614T173813Z
LAST-MODIFIED:20240614T173813Z
UID:10000092-1750291200-1750377599@www.saugususd.org
SUMMARY:Juneteenth - District Offices Closed
DESCRIPTION:
URL:https://www.saugususd.org/calendar-event/juneteenth-district-offices-closed
END:VEVENT
BEGIN:VEVENT
DTSTART;TZID=America/Los_Angeles:20250614T100000
DTEND;TZID=America/Los_Angeles:20250614T100000
DTSTAMP:20260419T213732
CREATED:20250530T001202Z
LAST-MODIFIED:20250530T001535Z
UID:10000254-1749895200-1749895200@www.saugususd.org
SUMMARY:School's Out Movie Day
DESCRIPTION:How to Train Your Dragon\nSeats are limited – register today!\nPlease contact Victoria to receive registration information.\nLocation will be disclosed upon registration.
URL:https://www.saugususd.org/calendar-event/schools-out-movie-day
END:VEVENT
BEGIN:VEVENT
DTSTART;VALUE=DATE:20250613
DTEND;VALUE=DATE:20250614
DTSTAMP:20260419T213732
CREATED:20240614T173813Z
LAST-MODIFIED:20240614T173813Z
UID:10000091-1749772800-1749859199@www.saugususd.org
SUMMARY:Progress Reports Sent Home
DESCRIPTION:
URL:https://www.saugususd.org/calendar-event/progress-reports-sent-home-3
END:VEVENT
BEGIN:VEVENT
DTSTART;VALUE=DATE:20250613
DTEND;VALUE=DATE:20250614
DTSTAMP:20260419T213732
CREATED:20240614T173809Z
LAST-MODIFIED:20240614T173809Z
UID:10000089-1749772800-1749859199@www.saugususd.org
SUMMARY:Last Day of School
DESCRIPTION:
URL:https://www.saugususd.org/calendar-event/last-day-of-school-2
END:VEVENT
BEGIN:VEVENT
DTSTART;VALUE=DATE:20250613
DTEND;VALUE=DATE:20250614
DTSTAMP:20260419T213732
CREATED:20240614T173809Z
LAST-MODIFIED:20240614T173809Z
UID:10000090-1749772800-1749859199@www.saugususd.org
SUMMARY:Minumum Day
DESCRIPTION:
URL:https://www.saugususd.org/calendar-event/minumum-day
END:VEVENT
BEGIN:VEVENT
DTSTART;VALUE=DATE:20250611
DTEND;VALUE=DATE:20250612
DTSTAMP:20260419T213732
CREATED:20240614T173808Z
LAST-MODIFIED:20240614T173808Z
UID:10000088-1749600000-1749686399@www.saugususd.org
SUMMARY:Early Release Wednesday
DESCRIPTION:
URL:https://www.saugususd.org/calendar-event/early-release-wednesday-36
END:VEVENT
BEGIN:VEVENT
DTSTART;TZID=America/Los_Angeles:20250607T183000
DTEND;TZID=America/Los_Angeles:20250607T183000
DTSTAMP:20260419T213732
CREATED:20250303T220854Z
LAST-MODIFIED:20250303T221005Z
UID:10000228-1749321000-1749321000@www.saugususd.org
SUMMARY:Black and African American Family Focus Support Group
DESCRIPTION:Coming together to create a safe supportive place to connect with other families of children\, young and old\, with special needs\, share resources\, provide advocacy\, and be a part of an inclusive community. Join us at 6:30 p.m. via Zoom the first Wednesday of the month. Visit the CSUN Family Focus Resource Center for more information.
URL:https://www.saugususd.org/calendar-event/black-and-african-american-family-focus-support-group-2
END:VEVENT
BEGIN:VEVENT
DTSTART;VALUE=DATE:20250604
DTEND;VALUE=DATE:20250605
DTSTAMP:20260419T213732
CREATED:20240614T173808Z
LAST-MODIFIED:20240614T173808Z
UID:10000087-1748995200-1749081599@www.saugususd.org
SUMMARY:Early Release Wednesday
DESCRIPTION:
URL:https://www.saugususd.org/calendar-event/early-release-wednesday-35
END:VEVENT
BEGIN:VEVENT
DTSTART;TZID=America/Los_Angeles:20250603T183000
DTEND;TZID=America/Los_Angeles:20250603T183000
DTSTAMP:20260419T213732
CREATED:20250109T225602Z
LAST-MODIFIED:20250109T225602Z
UID:10000198-1748975400-1748975400@www.saugususd.org
SUMMARY:Governing Board Meeting
DESCRIPTION:
URL:https://www.saugususd.org/calendar-event/governing-board-meeting-15/2025-06-03
LOCATION:24930 Avenue Stanford\, Santa Clarita\, CA\, 24930 Avenue Stanford\, Santa Clarita\, CA
END:VEVENT
END:VCALENDAR