BEGIN:VCALENDAR
VERSION:2.0
PRODID:-//Saugus Union School District - ECPv6.15.17.1//NONSGML v1.0//EN
CALSCALE:GREGORIAN
METHOD:PUBLISH
X-WR-CALNAME:Saugus Union School District
X-ORIGINAL-URL:https://www.saugususd.org
X-WR-CALDESC:Events for Saugus Union School District
REFRESH-INTERVAL;VALUE=DURATION:PT1H
X-Robots-Tag:noindex
X-PUBLISHED-TTL:PT1H
BEGIN:VTIMEZONE
TZID:America/Los_Angeles
BEGIN:DAYLIGHT
TZOFFSETFROM:-0800
TZOFFSETTO:-0700
TZNAME:PDT
DTSTART:20230312T100000
END:DAYLIGHT
BEGIN:STANDARD
TZOFFSETFROM:-0700
TZOFFSETTO:-0800
TZNAME:PST
DTSTART:20231105T090000
END:STANDARD
BEGIN:DAYLIGHT
TZOFFSETFROM:-0800
TZOFFSETTO:-0700
TZNAME:PDT
DTSTART:20240310T100000
END:DAYLIGHT
BEGIN:STANDARD
TZOFFSETFROM:-0700
TZOFFSETTO:-0800
TZNAME:PST
DTSTART:20241103T090000
END:STANDARD
BEGIN:DAYLIGHT
TZOFFSETFROM:-0800
TZOFFSETTO:-0700
TZNAME:PDT
DTSTART:20250309T100000
END:DAYLIGHT
BEGIN:STANDARD
TZOFFSETFROM:-0700
TZOFFSETTO:-0800
TZNAME:PST
DTSTART:20251102T090000
END:STANDARD
END:VTIMEZONE
BEGIN:VEVENT
DTSTART;TZID=America/Los_Angeles:20241015T053000
DTEND;TZID=America/Los_Angeles:20241015T193000
DTSTAMP:20260420T192529
CREATED:20241009T032916Z
LAST-MODIFIED:20241009T032916Z
UID:10000113-1728970200-1729020600@www.saugususd.org
SUMMARY:Parenting for Prevention Workshop
DESCRIPTION:The City of Santa Clarita is sponsoring a Parenting for Prevention workshop on October 15\, 2024\, at Hart High School from 5:30 to 7:30 p.m. Our drug prevention and mental health resource fair will be from 5:30 to 6:30 p.m. The SVC Counseling Center will share their presentation from 6:30 to 7:30 p.m. This event is open to the public with Spanish and English options available. Guests can also participate in a raffle for a chance to win prizes!\n\n\n\nThe City of Santa Clarita is sponsoring a Parenting for Prevention workshop on October 15\, 2024\, in the Hart High School cafeteria from 5:30 to 7:30 p.m. Our drug prevention and mental health resource fair will be from 5:30 to 6:30 p.m. The SVC Counseling Center will share their presentation from 6:30 to 7:30 p.m. This event is open to the public with Spanish and English options available. Guests can also participate in a raffle for a chance to win prizes!\n\nParenting for Prevention provides a wealth of resources\, expert advice\, and community support to help parents confidently raise drug-free youth. The initiative includes a bilingual podcast where local experts discuss teen drug abuse. This new format allows parents to access this crucial information on their own schedule. If parents prefer an in-person setting\, there will also be two parent meetings where drug prevention experts share practical tools and tips—everything from recognizing the signs of drug and alcohol use to having open conversations with your kids about drugs\, setting boundaries\, and building healthy habits together. Please check out our Instagram at @DFYinSCV or the SCV website—your go-to for podcasts\, upcoming parent meetings\, drug information\, mental health resources\, and much more. Please call 661-250-2737 or email us with any questions about our upcoming workshop.
URL:https://www.saugususd.org/calendar-event/parenting-for-prevention-workshop
LOCATION:Hart High School\, 24825 Newhall Avenue\, Santa Clarita\, CA\, United States
END:VEVENT
BEGIN:VEVENT
DTSTART;TZID=America/Los_Angeles:20241009T120000
DTEND;TZID=America/Los_Angeles:20241009T130000
DTSTAMP:20260420T192529
CREATED:20240704T011226Z
LAST-MODIFIED:20240704T011226Z
UID:10000096-1728475200-1728478800@www.saugususd.org
SUMMARY:IEP Essentials
DESCRIPTION:
URL:https://www.saugususd.org/calendar-event/iep-essentials-3
END:VEVENT
BEGIN:VEVENT
DTSTART;TZID=America/Los_Angeles:20241008T183000
DTEND;TZID=America/Los_Angeles:20241008T183000
DTSTAMP:20260420T192529
CREATED:20240614T173323Z
LAST-MODIFIED:20240614T173323Z
UID:10000029-1728412200-1728412200@www.saugususd.org
SUMMARY:Governing Board Meeting
DESCRIPTION:
URL:https://www.saugususd.org/calendar-event/governing-board-meeting-8
END:VEVENT
BEGIN:VEVENT
DTSTART;VALUE=DATE:20241007
DTEND;VALUE=DATE:20241012
DTSTAMP:20260420T192529
CREATED:20240614T173323Z
LAST-MODIFIED:20240614T173323Z
UID:10000028-1728259200-1728691199@www.saugususd.org
SUMMARY:Fall Break
DESCRIPTION:
URL:https://www.saugususd.org/calendar-event/fall-break
END:VEVENT
BEGIN:VEVENT
DTSTART;VALUE=DATE:20241002
DTEND;VALUE=DATE:20241003
DTSTAMP:20260420T192529
CREATED:20240614T173322Z
LAST-MODIFIED:20240614T173322Z
UID:10000027-1727827200-1727913599@www.saugususd.org
SUMMARY:Early Release Wednesday
DESCRIPTION:
URL:https://www.saugususd.org/calendar-event/early-release-wednesday-8
END:VEVENT
BEGIN:VEVENT
DTSTART;TZID=America/Los_Angeles:20240927T183000
DTEND;TZID=America/Los_Angeles:20240927T183000
DTSTAMP:20260420T192529
CREATED:20240614T173322Z
LAST-MODIFIED:20240614T173322Z
UID:10000026-1727461800-1727461800@www.saugususd.org
SUMMARY:Governing Board Meeting
DESCRIPTION:
URL:https://www.saugususd.org/calendar-event/governing-board-meeting-7
END:VEVENT
BEGIN:VEVENT
DTSTART;TZID=America/Los_Angeles:20240925T180000
DTEND;TZID=America/Los_Angeles:20240925T180000
DTSTAMP:20260420T192529
CREATED:20240823T170446Z
LAST-MODIFIED:20240823T214400Z
UID:10000108-1727287200-1727287200@www.saugususd.org
SUMMARY:Community Meeting
DESCRIPTION:Zoom Link – September 25\, 2024\nDistrict Office: District Office Board Room: 24930 Avenue Stanford\, Santa Clarita\, CA 91355\nSchool 1: Bridgeport Elementary\, MPR\, 23670 Newhall Ranch Rd\, Valencia\, CA 91355\nSchool 2: Highlands Elementary\, MPR\, 27332 Catala Ave\, Saugus\, CA 91350
URL:https://www.saugususd.org/calendar-event/community-meeting-7
END:VEVENT
BEGIN:VEVENT
DTSTART;VALUE=DATE:20240925
DTEND;VALUE=DATE:20240926
DTSTAMP:20260420T192529
CREATED:20240614T173123Z
LAST-MODIFIED:20240614T173123Z
UID:10000025-1727222400-1727308799@www.saugususd.org
SUMMARY:Early Release Wednesday
DESCRIPTION:
URL:https://www.saugususd.org/calendar-event/early-release-wednesday-7
END:VEVENT
BEGIN:VEVENT
DTSTART;TZID=America/Los_Angeles:20240924T170000
DTEND;TZID=America/Los_Angeles:20240924T200000
DTSTAMP:20260420T192529
CREATED:20240614T173122Z
LAST-MODIFIED:20240822T050659Z
UID:10000023-1727197200-1727208000@www.saugususd.org
SUMMARY:Special Governing Board Meeting
DESCRIPTION:
URL:https://www.saugususd.org/calendar-event/special-governing-board-meeting-2
END:VEVENT
BEGIN:VEVENT
DTSTART;TZID=America/Los_Angeles:20240923T120000
DTEND;TZID=America/Los_Angeles:20240923T120000
DTSTAMP:20260420T192529
CREATED:20240823T170319Z
LAST-MODIFIED:20240823T214317Z
UID:10000107-1727092800-1727092800@www.saugususd.org
SUMMARY:Community Meeting
DESCRIPTION:Zoom Link – September 23\, 2024\nDistrict Office: District Office Board Room: 24930 Avenue Stanford\, Santa Clarita\, CA 91355\nSchool 1: Rio Vista Elementary\, MPR\, 20417 Cedarcreek St\, Canyon Country\, CA 91351\nSchool 2: Rosedell Elementary\, MPR\, 27853 Urbandale Ave\, Santa Clarita\, CA 91350
URL:https://www.saugususd.org/calendar-event/community-meeting-6
END:VEVENT
BEGIN:VEVENT
DTSTART;TZID=America/Los_Angeles:20240918T183000
DTEND;TZID=America/Los_Angeles:20240918T183000
DTSTAMP:20260420T192529
CREATED:20240830T144724Z
LAST-MODIFIED:20240830T144724Z
UID:10000110-1726684200-1726684200@www.saugususd.org
SUMMARY:Asset Management Advisory Committee Meeting
DESCRIPTION:
URL:https://www.saugususd.org/calendar-event/asset-management-advisory-committee-meeting-2
LOCATION:Santa Clarita Elementary
END:VEVENT
BEGIN:VEVENT
DTSTART;TZID=America/Los_Angeles:20240918T120000
DTEND;TZID=America/Los_Angeles:20240918T130000
DTSTAMP:20260420T192529
CREATED:20240704T011156Z
LAST-MODIFIED:20240704T011156Z
UID:10000095-1726660800-1726664400@www.saugususd.org
SUMMARY:IEP Essentials
DESCRIPTION:
URL:https://www.saugususd.org/calendar-event/iep-essentials-2
END:VEVENT
BEGIN:VEVENT
DTSTART;VALUE=DATE:20240918
DTEND;VALUE=DATE:20240919
DTSTAMP:20260420T192529
CREATED:20240614T173123Z
LAST-MODIFIED:20240614T173123Z
UID:10000024-1726617600-1726703999@www.saugususd.org
SUMMARY:Early Release Wednesday
DESCRIPTION:
URL:https://www.saugususd.org/calendar-event/early-release-wednesday-6
END:VEVENT
BEGIN:VEVENT
DTSTART;TZID=America/Los_Angeles:20240917T183000
DTEND;TZID=America/Los_Angeles:20240917T210000
DTSTAMP:20260420T192529
CREATED:20240822T050733Z
LAST-MODIFIED:20240822T050733Z
UID:10000101-1726597800-1726606800@www.saugususd.org
SUMMARY:Governing Board Meeting
DESCRIPTION:
URL:https://www.saugususd.org/calendar-event/governing-board-meeting-11
END:VEVENT
BEGIN:VEVENT
DTSTART;VALUE=DATE:20240911
DTEND;VALUE=DATE:20240912
DTSTAMP:20260420T192529
CREATED:20240614T173122Z
LAST-MODIFIED:20240614T173122Z
UID:10000022-1726012800-1726099199@www.saugususd.org
SUMMARY:Early Release Wednesday
DESCRIPTION:
URL:https://www.saugususd.org/calendar-event/early-release-wednesday-5
END:VEVENT
BEGIN:VEVENT
DTSTART;TZID=America/Los_Angeles:20240905T180000
DTEND;TZID=America/Los_Angeles:20240905T180000
DTSTAMP:20260420T192529
CREATED:20240805T152059Z
LAST-MODIFIED:20240905T214121Z
UID:10000100-1725559200-1725559200@www.saugususd.org
SUMMARY:Measure EE Citizens' Oversight Committee Meeting
DESCRIPTION:
URL:https://www.saugususd.org/calendar-event/measure-ee-citizens-oversight-committee-meeting
LOCATION:Rosedell Elementary\, 27853 Urbandal Ave.\, Saugus\, CA\, 91350\, United States
END:VEVENT
BEGIN:VEVENT
DTSTART;VALUE=DATE:20240904
DTEND;VALUE=DATE:20240905
DTSTAMP:20260420T192529
CREATED:20240614T173121Z
LAST-MODIFIED:20240614T173121Z
UID:10000021-1725408000-1725494399@www.saugususd.org
SUMMARY:Early Release Wednesday
DESCRIPTION:
URL:https://www.saugususd.org/calendar-event/early-release-wednesday-4
END:VEVENT
BEGIN:VEVENT
DTSTART;TZID=America/Los_Angeles:20240903T183000
DTEND;TZID=America/Los_Angeles:20240903T183000
DTSTAMP:20260420T192529
CREATED:20240614T172932Z
LAST-MODIFIED:20240614T172932Z
UID:10000020-1725388200-1725388200@www.saugususd.org
SUMMARY:Governing Board Meeting
DESCRIPTION:
URL:https://www.saugususd.org/calendar-event/governing-board-meeting-6
END:VEVENT
BEGIN:VEVENT
DTSTART;TZID=America/Los_Angeles:20240903T091500
DTEND;TZID=America/Los_Angeles:20240903T091500
DTSTAMP:20260420T192529
CREATED:20240823T170146Z
LAST-MODIFIED:20240823T214217Z
UID:10000106-1725354900-1725354900@www.saugususd.org
SUMMARY:Community Meeting
DESCRIPTION:Zoom Link – September 3\, 2024\nDistrict Office: District Office Board Room: 24930 Avenue Stanford\, Santa Clarita\, CA 91355\nSchool 1: James Foster Elementary\, MPR\, 22500 Pamplico Dr\, Saugus\, CA 91350\nSchool 2: Emblem Academy\, MPR\, 22635 W Espuella Dr\, Saugus\, CA 91350
URL:https://www.saugususd.org/calendar-event/community-meeting-5
END:VEVENT
BEGIN:VEVENT
DTSTART;VALUE=DATE:20240902
DTEND;VALUE=DATE:20240903
DTSTAMP:20260420T192529
CREATED:20240614T172931Z
LAST-MODIFIED:20240614T172931Z
UID:10000019-1725235200-1725321599@www.saugususd.org
SUMMARY:Labor Day - District Closed
DESCRIPTION:
URL:https://www.saugususd.org/calendar-event/labor-day-district-closed
END:VEVENT
BEGIN:VEVENT
DTSTART;TZID=America/Los_Angeles:20240830T083000
DTEND;TZID=America/Los_Angeles:20240830T083000
DTSTAMP:20260420T192529
CREATED:20240823T165613Z
LAST-MODIFIED:20240823T214119Z
UID:10000105-1725006600-1725006600@www.saugususd.org
SUMMARY:Community Meeting
DESCRIPTION:Zoom Link – August 30\, 2024\nDistrict Office: District Office Board Room: 24930 Avenue Stanford\, Santa Clarita\, CA 91355\nSchool 1: Tesoro del Valle Elementary\, MPR\, 29171 Bernardo Way\, Valencia\, CA 91354\nSchool 2: North Park Elementary\, MPR\, 23335 W Sunset Hills Dr\, Valencia\, CA 91354
URL:https://www.saugususd.org/calendar-event/community-meeting-4
END:VEVENT
BEGIN:VEVENT
DTSTART;TZID=America/Los_Angeles:20240829T183000
DTEND;TZID=America/Los_Angeles:20240829T183000
DTSTAMP:20260420T192529
CREATED:20240823T165423Z
LAST-MODIFIED:20240823T214018Z
UID:10000104-1724956200-1724956200@www.saugususd.org
SUMMARY:Community Meeting
DESCRIPTION:Zoom Link – Evening\, August 29\, 2024\nDistrict Office: District Office Board Room: 24930 Avenue Stanford\, Santa Clarita\, CA 91355\nSchool 1: Plum Canyon Elementary\, MPR\, 28360 N Alfred Way\, Saugus\, CA 91350\nSchool 2: Cedarcreek Elementary\, 27792 Camp Plenty Rd\, Canyon Country\, CA 91351
URL:https://www.saugususd.org/calendar-event/community-meeting-3
END:VEVENT
BEGIN:VEVENT
DTSTART;TZID=America/Los_Angeles:20240829T100000
DTEND;TZID=America/Los_Angeles:20240829T100000
DTSTAMP:20260420T192529
CREATED:20240823T165242Z
LAST-MODIFIED:20240823T213924Z
UID:10000103-1724925600-1724925600@www.saugususd.org
SUMMARY:Community Meeting
DESCRIPTION:Zoom Link – Morning\, August 29\, 2024\nDistrict Office: District Office Board Room: 24930 Avenue Stanford\, Santa Clarita\, CA 91355\nSchool 1: West Creek Academy\, MPR\, 28767 West Hills Dr\, Santa Clarita\, CA 91354\nSchool 2: Charles Helmers Elementary\, MPR\, 27300 Grandview Dr\, Valencia\, CA 91354
URL:https://www.saugususd.org/calendar-event/community-meeting-2
END:VEVENT
BEGIN:VEVENT
DTSTART;TZID=America/Los_Angeles:20240828T183000
DTEND;TZID=America/Los_Angeles:20240828T183000
DTSTAMP:20260420T192529
CREATED:20240823T165039Z
LAST-MODIFIED:20240823T213738Z
UID:10000102-1724869800-1724869800@www.saugususd.org
SUMMARY:Community Meeting
DESCRIPTION:Zoom Link – August 28\, 2024\nDistrict Office: District Office Board Room: 24930 Avenue Stanford\, Santa Clarita\, CA 91355\nSchool 1: Mountainview Elementary\, 22201 W Cypress Pl\, Santa Clarita\, CA 91390\nSchool 2: Skyblue Mesa Elementary\, MPR\, 28040 Hardesty Ave\, Canyon Country\, CA 91351
URL:https://www.saugususd.org/calendar-event/community-meeting
END:VEVENT
BEGIN:VEVENT
DTSTART;VALUE=DATE:20240828
DTEND;VALUE=DATE:20240829
DTSTAMP:20260420T192529
CREATED:20240614T172931Z
LAST-MODIFIED:20240614T172931Z
UID:10000018-1724803200-1724889599@www.saugususd.org
SUMMARY:Early Release Wednesday
DESCRIPTION:
URL:https://www.saugususd.org/calendar-event/early-release-wednesday-3
END:VEVENT
BEGIN:VEVENT
DTSTART;TZID=America/Los_Angeles:20240827T100000
DTEND;TZID=America/Los_Angeles:20240827T100000
DTSTAMP:20260420T192529
CREATED:20240704T011054Z
LAST-MODIFIED:20240704T011054Z
UID:10000093-1724752800-1724752800@www.saugususd.org
SUMMARY:Anti-Bullying Strategies
DESCRIPTION:
URL:https://www.saugususd.org/calendar-event/anti-bullying-strategies
END:VEVENT
BEGIN:VEVENT
DTSTART;VALUE=DATE:20240821
DTEND;VALUE=DATE:20240822
DTSTAMP:20260420T192529
CREATED:20240614T172930Z
LAST-MODIFIED:20240614T172930Z
UID:10000016-1724198400-1724284799@www.saugususd.org
SUMMARY:Early Release Wednesday
DESCRIPTION:
URL:https://www.saugususd.org/calendar-event/early-release-wednesday-2
END:VEVENT
BEGIN:VEVENT
DTSTART;TZID=America/Los_Angeles:20240820T183000
DTEND;TZID=America/Los_Angeles:20240820T183000
DTSTAMP:20260420T192529
CREATED:20240614T172731Z
LAST-MODIFIED:20240614T172731Z
UID:10000015-1724178600-1724178600@www.saugususd.org
SUMMARY:Governing Board Meeting
DESCRIPTION:
URL:https://www.saugususd.org/calendar-event/governing-board-meeting-4
END:VEVENT
BEGIN:VEVENT
DTSTART;TZID=America/Los_Angeles:20240814T120000
DTEND;TZID=America/Los_Angeles:20240814T130000
DTSTAMP:20260420T192529
CREATED:20240704T011132Z
LAST-MODIFIED:20240704T011132Z
UID:10000094-1723636800-1723640400@www.saugususd.org
SUMMARY:IEP Essentials
DESCRIPTION:
URL:https://www.saugususd.org/calendar-event/iep-essentials
END:VEVENT
BEGIN:VEVENT
DTSTART;VALUE=DATE:20240814
DTEND;VALUE=DATE:20240815
DTSTAMP:20260420T192529
CREATED:20240614T172730Z
LAST-MODIFIED:20240614T172730Z
UID:10000014-1723593600-1723679999@www.saugususd.org
SUMMARY:Early Release Wednesday
DESCRIPTION:
URL:https://www.saugususd.org/calendar-event/early-release-wednesday
END:VEVENT
END:VCALENDAR