BEGIN:VCALENDAR
VERSION:2.0
PRODID:-//Saugus Union School District - ECPv6.15.17.1//NONSGML v1.0//EN
CALSCALE:GREGORIAN
METHOD:PUBLISH
X-ORIGINAL-URL:https://www.saugususd.org
X-WR-CALDESC:Events for Saugus Union School District
REFRESH-INTERVAL;VALUE=DURATION:PT1H
X-Robots-Tag:noindex
X-PUBLISHED-TTL:PT1H
BEGIN:VTIMEZONE
TZID:America/Los_Angeles
BEGIN:DAYLIGHT
TZOFFSETFROM:-0800
TZOFFSETTO:-0700
TZNAME:PDT
DTSTART:20230312T100000
END:DAYLIGHT
BEGIN:STANDARD
TZOFFSETFROM:-0700
TZOFFSETTO:-0800
TZNAME:PST
DTSTART:20231105T090000
END:STANDARD
BEGIN:DAYLIGHT
TZOFFSETFROM:-0800
TZOFFSETTO:-0700
TZNAME:PDT
DTSTART:20240310T100000
END:DAYLIGHT
BEGIN:STANDARD
TZOFFSETFROM:-0700
TZOFFSETTO:-0800
TZNAME:PST
DTSTART:20241103T090000
END:STANDARD
BEGIN:DAYLIGHT
TZOFFSETFROM:-0800
TZOFFSETTO:-0700
TZNAME:PDT
DTSTART:20250309T100000
END:DAYLIGHT
BEGIN:STANDARD
TZOFFSETFROM:-0700
TZOFFSETTO:-0800
TZNAME:PST
DTSTART:20251102T090000
END:STANDARD
BEGIN:DAYLIGHT
TZOFFSETFROM:-0800
TZOFFSETTO:-0700
TZNAME:PDT
DTSTART:20260308T100000
END:DAYLIGHT
BEGIN:STANDARD
TZOFFSETFROM:-0700
TZOFFSETTO:-0800
TZNAME:PST
DTSTART:20261101T090000
END:STANDARD
END:VTIMEZONE
BEGIN:VEVENT
DTSTART;VALUE=DATE:20241023
DTEND;VALUE=DATE:20241024
DTSTAMP:20260422T133944
CREATED:20240614T173433Z
LAST-MODIFIED:20240614T173433Z
UID:10000031-1729641600-1729727999@www.saugususd.org
SUMMARY:Early Release Wednesday
DESCRIPTION:
URL:https://www.saugususd.org/calendar-event/early-release-wednesday-10
END:VEVENT
BEGIN:VEVENT
DTSTART;TZID=America/Los_Angeles:20241029T183000
DTEND;TZID=America/Los_Angeles:20241029T183000
DTSTAMP:20260422T133944
CREATED:20240614T173434Z
LAST-MODIFIED:20240614T173434Z
UID:10000032-1730226600-1730226600@www.saugususd.org
SUMMARY:Governing Board Meeting
DESCRIPTION:
URL:https://www.saugususd.org/calendar-event/governing-board-meeting-9
END:VEVENT
BEGIN:VEVENT
DTSTART;VALUE=DATE:20241030
DTEND;VALUE=DATE:20241031
DTSTAMP:20260422T133944
CREATED:20240614T173434Z
LAST-MODIFIED:20240614T173434Z
UID:10000033-1730246400-1730332799@www.saugususd.org
SUMMARY:Early Release Wednesday
DESCRIPTION:
URL:https://www.saugususd.org/calendar-event/early-release-wednesday-11
END:VEVENT
BEGIN:VEVENT
DTSTART;TZID=America/Los_Angeles:20241030T183000
DTEND;TZID=America/Los_Angeles:20241030T203000
DTSTAMP:20260422T133944
CREATED:20241004T160943Z
LAST-MODIFIED:20241004T160943Z
UID:10000112-1730313000-1730320200@www.saugususd.org
SUMMARY:Asset Management Advisory Committee
DESCRIPTION:
URL:https://www.saugususd.org/calendar-event/asset-management-advisory-committee
LOCATION:Bridgeport Elementary MPR
END:VEVENT
BEGIN:VEVENT
DTSTART;VALUE=DATE:20241101
DTEND;VALUE=DATE:20241102
DTSTAMP:20260422T133944
CREATED:20240614T173435Z
LAST-MODIFIED:20240614T173435Z
UID:10000034-1730419200-1730505599@www.saugususd.org
SUMMARY:Staff Development Day - Student Free Day
DESCRIPTION:
URL:https://www.saugususd.org/calendar-event/staff-development-day-student-free-day
END:VEVENT
BEGIN:VEVENT
DTSTART;VALUE=DATE:20241106
DTEND;VALUE=DATE:20241107
DTSTAMP:20260422T133944
CREATED:20240614T173435Z
LAST-MODIFIED:20240614T173435Z
UID:10000035-1730851200-1730937599@www.saugususd.org
SUMMARY:Early Release Wednesday
DESCRIPTION:
URL:https://www.saugususd.org/calendar-event/early-release-wednesday-12
END:VEVENT
BEGIN:VEVENT
DTSTART;TZID=America/Los_Angeles:20241107T173000
DTEND;TZID=America/Los_Angeles:20241107T203000
DTSTAMP:20260422T133944
CREATED:20240614T173439Z
LAST-MODIFIED:20240614T173439Z
UID:10000036-1731000600-1731011400@www.saugususd.org
SUMMARY:Special Governing Board Meeting
DESCRIPTION:
URL:https://www.saugususd.org/calendar-event/special-governing-board-meeting-3
END:VEVENT
BEGIN:VEVENT
DTSTART;TZID=America/Los_Angeles:20241107T183000
DTEND;TZID=America/Los_Angeles:20241107T183000
DTSTAMP:20260422T133944
CREATED:20241101T222941Z
LAST-MODIFIED:20241101T224049Z
UID:10000114-1731004200-1731004200@www.saugususd.org
SUMMARY:Measure EE Citizens’ Oversight Committee Meeting
DESCRIPTION:
URL:https://www.saugususd.org/calendar-event/measure-ee-citizens-oversight-committee-meeting-3
LOCATION:District Office\, Bramlett Room
END:VEVENT
BEGIN:VEVENT
DTSTART;VALUE=DATE:20241108
DTEND;VALUE=DATE:20241109
DTSTAMP:20260422T133944
CREATED:20240614T173440Z
LAST-MODIFIED:20240614T173440Z
UID:10000037-1731024000-1731110399@www.saugususd.org
SUMMARY:Upper Grades Minimum Day
DESCRIPTION:
URL:https://www.saugususd.org/calendar-event/upper-grades-minimum-day
END:VEVENT
BEGIN:VEVENT
DTSTART;VALUE=DATE:20241111
DTEND;VALUE=DATE:20241112
DTSTAMP:20260422T133944
CREATED:20240614T173440Z
LAST-MODIFIED:20240614T173440Z
UID:10000038-1731283200-1731369599@www.saugususd.org
SUMMARY:Veterans Day - District Closed
DESCRIPTION:
URL:https://www.saugususd.org/calendar-event/veterans-day-district-closed
END:VEVENT
BEGIN:VEVENT
DTSTART;VALUE=DATE:20241113
DTEND;VALUE=DATE:20241114
DTSTAMP:20260422T133944
CREATED:20240614T173441Z
LAST-MODIFIED:20240614T173441Z
UID:10000039-1731456000-1731542399@www.saugususd.org
SUMMARY:Early Release Wednesday
DESCRIPTION:
URL:https://www.saugususd.org/calendar-event/early-release-wednesday-13
END:VEVENT
BEGIN:VEVENT
DTSTART;TZID=America/Los_Angeles:20241113T120000
DTEND;TZID=America/Los_Angeles:20241113T130000
DTSTAMP:20260422T133944
CREATED:20240704T011256Z
LAST-MODIFIED:20240704T011256Z
UID:10000097-1731499200-1731502800@www.saugususd.org
SUMMARY:IEP Essentials
DESCRIPTION:
URL:https://www.saugususd.org/calendar-event/iep-essentials-4
END:VEVENT
BEGIN:VEVENT
DTSTART;VALUE=DATE:20241118
DTEND;VALUE=DATE:20241119
DTSTAMP:20260422T133944
CREATED:20240614T173441Z
LAST-MODIFIED:20240614T173441Z
UID:10000040-1731888000-1731974399@www.saugususd.org
SUMMARY:Parent Conferences - Minumum Day
DESCRIPTION:
URL:https://www.saugususd.org/calendar-event/parent-conferences-minumum-day
END:VEVENT
BEGIN:VEVENT
DTSTART;VALUE=DATE:20241118
DTEND;VALUE=DATE:20241119
DTSTAMP:20260422T133944
CREATED:20240614T173444Z
LAST-MODIFIED:20240614T173444Z
UID:10000041-1731888000-1731974399@www.saugususd.org
SUMMARY:Progress Reports Sent Home
DESCRIPTION:
URL:https://www.saugususd.org/calendar-event/progress-reports-sent-home
END:VEVENT
BEGIN:VEVENT
DTSTART;VALUE=DATE:20241119
DTEND;VALUE=DATE:20241120
DTSTAMP:20260422T133944
CREATED:20240614T173445Z
LAST-MODIFIED:20240614T173445Z
UID:10000042-1731974400-1732060799@www.saugususd.org
SUMMARY:Parent Conferences - Minumum Day
DESCRIPTION:
URL:https://www.saugususd.org/calendar-event/parent-conferences-minumum-day-2
END:VEVENT
BEGIN:VEVENT
DTSTART;TZID=America/Los_Angeles:20241119T183000
DTEND;TZID=America/Los_Angeles:20241119T183000
DTSTAMP:20260422T133944
CREATED:20240614T173445Z
LAST-MODIFIED:20240614T173445Z
UID:10000043-1732041000-1732041000@www.saugususd.org
SUMMARY:Governing Board Meeting
DESCRIPTION:
URL:https://www.saugususd.org/calendar-event/governing-board-meeting-10
END:VEVENT
BEGIN:VEVENT
DTSTART;VALUE=DATE:20241120
DTEND;VALUE=DATE:20241121
DTSTAMP:20260422T133944
CREATED:20240614T173446Z
LAST-MODIFIED:20240614T173446Z
UID:10000044-1732060800-1732147199@www.saugususd.org
SUMMARY:Parent Conferences - Schools Closed
DESCRIPTION:
URL:https://www.saugususd.org/calendar-event/parent-conferences-schools-closed
END:VEVENT
BEGIN:VEVENT
DTSTART;VALUE=DATE:20241121
DTEND;VALUE=DATE:20241122
DTSTAMP:20260422T133944
CREATED:20240614T173446Z
LAST-MODIFIED:20240614T173446Z
UID:10000045-1732147200-1732233599@www.saugususd.org
SUMMARY:Parent Conferences - Minumum Day
DESCRIPTION:
URL:https://www.saugususd.org/calendar-event/parent-conferences-minumum-day-3
END:VEVENT
BEGIN:VEVENT
DTSTART;VALUE=DATE:20241122
DTEND;VALUE=DATE:20241123
DTSTAMP:20260422T133944
CREATED:20240614T173504Z
LAST-MODIFIED:20240614T173504Z
UID:10000046-1732233600-1732319999@www.saugususd.org
SUMMARY:Parent Conferences - Minumum Day
DESCRIPTION:
URL:https://www.saugususd.org/calendar-event/parent-conferences-minumum-day-4
END:VEVENT
BEGIN:VEVENT
DTSTART;VALUE=DATE:20241125
DTEND;VALUE=DATE:20241130
DTSTAMP:20260422T133944
CREATED:20240614T173504Z
LAST-MODIFIED:20240614T173504Z
UID:10000047-1732492800-1732924799@www.saugususd.org
SUMMARY:Thanksgiving Break
DESCRIPTION:
URL:https://www.saugususd.org/calendar-event/thanksgiving-break
END:VEVENT
BEGIN:VEVENT
DTSTART;TZID=America/Los_Angeles:20241125T090000
DTEND;TZID=America/Los_Angeles:20241125T140000
DTSTAMP:20260422T133944
CREATED:20241120T033054Z
LAST-MODIFIED:20241120T033054Z
UID:10000118-1732525200-1732543200@www.saugususd.org
SUMMARY:Special Board Meeting
DESCRIPTION:
URL:https://www.saugususd.org/calendar-event/special-board-meeting
LOCATION:District Office Board Room
END:VEVENT
BEGIN:VEVENT
DTSTART;VALUE=DATE:20241127
DTEND;VALUE=DATE:20241130
DTSTAMP:20260422T133944
CREATED:20240614T173505Z
LAST-MODIFIED:20240614T173505Z
UID:10000048-1732665600-1732924799@www.saugususd.org
SUMMARY:District Closed
DESCRIPTION:
URL:https://www.saugususd.org/calendar-event/district-closed
END:VEVENT
BEGIN:VEVENT
DTSTART;VALUE=DATE:20241204
DTEND;VALUE=DATE:20241205
DTSTAMP:20260422T133944
CREATED:20240614T173505Z
LAST-MODIFIED:20240614T173505Z
UID:10000049-1733270400-1733356799@www.saugususd.org
SUMMARY:Early Release Wednesday
DESCRIPTION:
URL:https://www.saugususd.org/calendar-event/early-release-wednesday-14
END:VEVENT
BEGIN:VEVENT
DTSTART;VALUE=DATE:20241211
DTEND;VALUE=DATE:20241212
DTSTAMP:20260422T133944
CREATED:20240614T173505Z
LAST-MODIFIED:20240614T173505Z
UID:10000050-1733875200-1733961599@www.saugususd.org
SUMMARY:Early Release Wednesday
DESCRIPTION:
URL:https://www.saugususd.org/calendar-event/early-release-wednesday-15
END:VEVENT
BEGIN:VEVENT
DTSTART;VALUE=DATE:20241211
DTEND;VALUE=DATE:20241212
DTSTAMP:20260422T133944
CREATED:20241106T233402Z
LAST-MODIFIED:20241106T233402Z
UID:10000115-1733875200-1733961599@www.saugususd.org
SUMMARY:Asset Management Advisory Committee Meeting
DESCRIPTION:
URL:https://www.saugususd.org/calendar-event/asset-management-advisory-committee-meeting-4
END:VEVENT
BEGIN:VEVENT
DTSTART;TZID=America/Los_Angeles:20241217T173000
DTEND;TZID=America/Los_Angeles:20241217T173000
DTSTAMP:20260422T133944
CREATED:20240614T173523Z
LAST-MODIFIED:20241216T175106Z
UID:10000051-1734456600-1734456600@www.saugususd.org
SUMMARY:Organizational Governing Board Meeting
DESCRIPTION:
URL:https://www.saugususd.org/calendar-event/organizational-governing-board-meeting
END:VEVENT
BEGIN:VEVENT
DTSTART;VALUE=DATE:20241218
DTEND;VALUE=DATE:20241219
DTSTAMP:20260422T133944
CREATED:20240614T173523Z
LAST-MODIFIED:20240614T173523Z
UID:10000052-1734480000-1734566399@www.saugususd.org
SUMMARY:Early Release Wednesday
DESCRIPTION:
URL:https://www.saugususd.org/calendar-event/early-release-wednesday-16
END:VEVENT
BEGIN:VEVENT
DTSTART;VALUE=DATE:20241223
DTEND;VALUE=DATE:20241228
DTSTAMP:20260422T133944
CREATED:20240614T173524Z
LAST-MODIFIED:20240614T173524Z
UID:10000053-1734912000-1735343999@www.saugususd.org
SUMMARY:Winter Break
DESCRIPTION:
URL:https://www.saugususd.org/calendar-event/winter-break
END:VEVENT
BEGIN:VEVENT
DTSTART;VALUE=DATE:20241224
DTEND;VALUE=DATE:20241227
DTSTAMP:20260422T133944
CREATED:20240614T173524Z
LAST-MODIFIED:20240614T173524Z
UID:10000054-1734998400-1735257599@www.saugususd.org
SUMMARY:District Closed
DESCRIPTION:
URL:https://www.saugususd.org/calendar-event/district-closed-2
END:VEVENT
BEGIN:VEVENT
DTSTART;VALUE=DATE:20241230
DTEND;VALUE=DATE:20250104
DTSTAMP:20260422T133944
CREATED:20240614T173525Z
LAST-MODIFIED:20240614T173525Z
UID:10000055-1735516800-1735948799@www.saugususd.org
SUMMARY:Winter Break
DESCRIPTION:
URL:https://www.saugususd.org/calendar-event/winter-break-2
END:VEVENT
END:VCALENDAR