BEGIN:VCALENDAR
VERSION:2.0
PRODID:-//Saugus Union School District - ECPv6.15.17.1//NONSGML v1.0//EN
CALSCALE:GREGORIAN
METHOD:PUBLISH
X-WR-CALNAME:Saugus Union School District
X-ORIGINAL-URL:https://www.saugususd.org
X-WR-CALDESC:Events for Saugus Union School District
REFRESH-INTERVAL;VALUE=DURATION:PT1H
X-Robots-Tag:noindex
X-PUBLISHED-TTL:PT1H
BEGIN:VTIMEZONE
TZID:America/Los_Angeles
BEGIN:DAYLIGHT
TZOFFSETFROM:-0800
TZOFFSETTO:-0700
TZNAME:PDT
DTSTART:20240310T100000
END:DAYLIGHT
BEGIN:STANDARD
TZOFFSETFROM:-0700
TZOFFSETTO:-0800
TZNAME:PST
DTSTART:20241103T090000
END:STANDARD
BEGIN:DAYLIGHT
TZOFFSETFROM:-0800
TZOFFSETTO:-0700
TZNAME:PDT
DTSTART:20250309T100000
END:DAYLIGHT
BEGIN:STANDARD
TZOFFSETFROM:-0700
TZOFFSETTO:-0800
TZNAME:PST
DTSTART:20251102T090000
END:STANDARD
BEGIN:DAYLIGHT
TZOFFSETFROM:-0800
TZOFFSETTO:-0700
TZNAME:PDT
DTSTART:20260308T100000
END:DAYLIGHT
BEGIN:STANDARD
TZOFFSETFROM:-0700
TZOFFSETTO:-0800
TZNAME:PST
DTSTART:20261101T090000
END:STANDARD
END:VTIMEZONE
BEGIN:VEVENT
DTSTART;VALUE=DATE:20251001
DTEND;VALUE=DATE:20251002
DTSTAMP:20260419T125810
CREATED:20250108T005433Z
LAST-MODIFIED:20250108T014513Z
UID:10000131-1759276800-1759363199@www.saugususd.org
SUMMARY:Early Release Wednesday
DESCRIPTION:
URL:https://www.saugususd.org/calendar-event/early-release-2/2025-10-01
END:VEVENT
BEGIN:VEVENT
DTSTART;TZID=America/Los_Angeles:20251001T183000
DTEND;TZID=America/Los_Angeles:20251001T183000
DTSTAMP:20260419T125811
CREATED:20250303T215936Z
LAST-MODIFIED:20250303T215936Z
UID:10000232-1759343400-1759343400@www.saugususd.org
SUMMARY:Black and African American Family Focus Support Group
DESCRIPTION:Coming together to create a safe supportive place to connect with other families of children\, young and old\, with special needs\, share resources\, provide advocacy\, and be a part of an inclusive community. Join us at 6:30 p.m. via Zoom the first Wednesday of the month. Visit the CSUN Family Focus Resource Center for more information.
URL:https://www.saugususd.org/calendar-event/black-and-african-american-family-focus-support-group/2025-10-01
END:VEVENT
BEGIN:VEVENT
DTSTART;VALUE=DATE:20251006
DTEND;VALUE=DATE:20251011
DTSTAMP:20260419T125811
CREATED:20250108T005626Z
LAST-MODIFIED:20250108T005626Z
UID:10000133-1759708800-1760140799@www.saugususd.org
SUMMARY:Fall Break
DESCRIPTION:
URL:https://www.saugususd.org/calendar-event/fall-break-2
END:VEVENT
BEGIN:VEVENT
DTSTART;TZID=America/Los_Angeles:20251013T180000
DTEND;TZID=America/Los_Angeles:20251013T180000
DTSTAMP:20260419T125811
CREATED:20250518T123500Z
LAST-MODIFIED:20250915T232910Z
UID:10000251-1760378400-1760378400@www.saugususd.org
SUMMARY:Disability Awareness Panel
DESCRIPTION:Real Stories\, Real Voices
URL:https://www.saugususd.org/calendar-event/disability-awareness-panel
LOCATION:Bouquet Canyon Early Learning Academy\, 28110 Wellston Dr.\, Saugus\, CA\, 91350\, United States
END:VEVENT
BEGIN:VEVENT
DTSTART;TZID=America/Los_Angeles:20251013T190000
DTEND;TZID=America/Los_Angeles:20251013T190000
DTSTAMP:20260419T125811
CREATED:20250518T122115Z
LAST-MODIFIED:20250915T233137Z
UID:10000246-1760382000-1760382000@www.saugususd.org
SUMMARY:CAC Meeting
DESCRIPTION:
URL:https://www.saugususd.org/calendar-event/cac-meeting-2
LOCATION:Bouquet Canyon Early Learning Academy\, 28110 Wellston Dr.\, Saugus\, CA\, 91350\, United States
END:VEVENT
BEGIN:VEVENT
DTSTART;VALUE=DATE:20251015
DTEND;VALUE=DATE:20251016
DTSTAMP:20260419T125811
CREATED:20250108T005740Z
LAST-MODIFIED:20250108T013523Z
UID:10000134-1760486400-1760572799@www.saugususd.org
SUMMARY:Early Release Wednesday
DESCRIPTION:
URL:https://www.saugususd.org/calendar-event/early-release-3/2025-10-15
END:VEVENT
BEGIN:VEVENT
DTSTART;TZID=America/Los_Angeles:20251021T183000
DTEND;TZID=America/Los_Angeles:20251021T183000
DTSTAMP:20260419T125811
CREATED:20250109T231329Z
LAST-MODIFIED:20250109T231329Z
UID:10000214-1761071400-1761071400@www.saugususd.org
SUMMARY:Governing Board Meeting
DESCRIPTION:
URL:https://www.saugususd.org/calendar-event/governing-board-meeting-21
LOCATION:24930 Avenue Stanford\, Santa Clarita\, CA\, 24930 Avenue Stanford\, Santa Clarita\, CA
END:VEVENT
BEGIN:VEVENT
DTSTART;VALUE=DATE:20251022
DTEND;VALUE=DATE:20251023
DTSTAMP:20260419T125811
CREATED:20250108T005740Z
LAST-MODIFIED:20250108T013523Z
UID:10000135-1761091200-1761177599@www.saugususd.org
SUMMARY:Early Release Wednesday
DESCRIPTION:
URL:https://www.saugususd.org/calendar-event/early-release-3/2025-10-22
END:VEVENT
BEGIN:VEVENT
DTSTART;VALUE=DATE:20251029
DTEND;VALUE=DATE:20251030
DTSTAMP:20260419T125811
CREATED:20250108T005740Z
LAST-MODIFIED:20250108T013523Z
UID:10000136-1761696000-1761782399@www.saugususd.org
SUMMARY:Early Release Wednesday
DESCRIPTION:
URL:https://www.saugususd.org/calendar-event/early-release-3/2025-10-29
END:VEVENT
BEGIN:VEVENT
DTSTART;TZID=America/Los_Angeles:20251030T183000
DTEND;TZID=America/Los_Angeles:20251030T183000
DTSTAMP:20260419T125811
CREATED:20250918T211039Z
LAST-MODIFIED:20250924T194043Z
UID:10000261-1761849000-1761849000@www.saugususd.org
SUMMARY:Governing Board Study Session
DESCRIPTION:
URL:https://www.saugususd.org/calendar-event/special-governing-board-meeting-10
LOCATION:Education Center
END:VEVENT
BEGIN:VEVENT
DTSTART;VALUE=DATE:20251105
DTEND;VALUE=DATE:20251106
DTSTAMP:20260419T125811
CREATED:20250108T005740Z
LAST-MODIFIED:20250108T013523Z
UID:10000137-1762300800-1762387199@www.saugususd.org
SUMMARY:Early Release Wednesday
DESCRIPTION:
URL:https://www.saugususd.org/calendar-event/early-release-3/2025-11-05
END:VEVENT
BEGIN:VEVENT
DTSTART;TZID=America/Los_Angeles:20251105T183000
DTEND;TZID=America/Los_Angeles:20251105T183000
DTSTAMP:20260419T125811
CREATED:20250303T215936Z
LAST-MODIFIED:20250303T215936Z
UID:10000233-1762367400-1762367400@www.saugususd.org
SUMMARY:Black and African American Family Focus Support Group
DESCRIPTION:Coming together to create a safe supportive place to connect with other families of children\, young and old\, with special needs\, share resources\, provide advocacy\, and be a part of an inclusive community. Join us at 6:30 p.m. via Zoom the first Wednesday of the month. Visit the CSUN Family Focus Resource Center for more information.
URL:https://www.saugususd.org/calendar-event/black-and-african-american-family-focus-support-group/2025-11-05
END:VEVENT
BEGIN:VEVENT
DTSTART;TZID=America/Los_Angeles:20251106T173000
DTEND;TZID=America/Los_Angeles:20251106T203000
DTSTAMP:20260419T125811
CREATED:20250109T231459Z
LAST-MODIFIED:20250924T194511Z
UID:10000216-1762450200-1762461000@www.saugususd.org
SUMMARY:Governing Board Study Session
DESCRIPTION:Superintendent’s Mid-year Evaluation 2024–2025
URL:https://www.saugususd.org/calendar-event/special-governing-board-meeting-9
LOCATION:Education Center
END:VEVENT
BEGIN:VEVENT
DTSTART;VALUE=DATE:20251111
DTEND;VALUE=DATE:20251112
DTSTAMP:20260419T125811
CREATED:20250108T005944Z
LAST-MODIFIED:20250108T005944Z
UID:10000140-1762819200-1762905599@www.saugususd.org
SUMMARY:Veteran's Day - No School (District Closed)
DESCRIPTION:
URL:https://www.saugususd.org/calendar-event/veterans-day-no-school-district-closed
END:VEVENT
BEGIN:VEVENT
DTSTART;VALUE=DATE:20251112
DTEND;VALUE=DATE:20251113
DTSTAMP:20260419T125811
CREATED:20250108T005740Z
LAST-MODIFIED:20250108T013523Z
UID:10000138-1762905600-1762991999@www.saugususd.org
SUMMARY:Early Release Wednesday
DESCRIPTION:
URL:https://www.saugususd.org/calendar-event/early-release-3/2025-11-12
END:VEVENT
BEGIN:VEVENT
DTSTART;TZID=America/Los_Angeles:20251113T180000
DTEND;TZID=America/Los_Angeles:20251113T180000
DTSTAMP:20260419T125811
CREATED:20251108T022414Z
LAST-MODIFIED:20251108T022954Z
UID:10000264-1763056800-1763056800@www.saugususd.org
SUMMARY:Measure EE Meeting
DESCRIPTION:Agenda
URL:https://www.saugususd.org/calendar-event/measure-ee-meeting-2
END:VEVENT
BEGIN:VEVENT
DTSTART;VALUE=DATE:20251117
DTEND;VALUE=DATE:20251118
DTSTAMP:20260419T125811
CREATED:20250108T010110Z
LAST-MODIFIED:20250108T013003Z
UID:10000141-1763337600-1763423999@www.saugususd.org
SUMMARY:Minimum Day - Parent Conferences
DESCRIPTION:
URL:https://www.saugususd.org/calendar-event/minimum-day-2
END:VEVENT
BEGIN:VEVENT
DTSTART;VALUE=DATE:20251118
DTEND;VALUE=DATE:20251119
DTSTAMP:20260419T125811
CREATED:20250108T010211Z
LAST-MODIFIED:20250108T013107Z
UID:10000142-1763424000-1763510399@www.saugususd.org
SUMMARY:Minimum Day - Parent Conferences
DESCRIPTION:
URL:https://www.saugususd.org/calendar-event/minimum-day-3
END:VEVENT
BEGIN:VEVENT
DTSTART;TZID=America/Los_Angeles:20251118T183000
DTEND;TZID=America/Los_Angeles:20251118T183000
DTSTAMP:20260419T125811
CREATED:20250109T231554Z
LAST-MODIFIED:20250109T231554Z
UID:10000217-1763490600-1763490600@www.saugususd.org
SUMMARY:Governing Board Meeting
DESCRIPTION:
URL:https://www.saugususd.org/calendar-event/governing-board-meeting-22
LOCATION:24930 Avenue Stanford\, Santa Clarita\, CA\, 24930 Avenue Stanford\, Santa Clarita\, CA
END:VEVENT
BEGIN:VEVENT
DTSTART;VALUE=DATE:20251119
DTEND;VALUE=DATE:20251120
DTSTAMP:20260419T125811
CREATED:20250108T010308Z
LAST-MODIFIED:20250108T010308Z
UID:10000143-1763510400-1763596799@www.saugususd.org
SUMMARY:Parent Conferences - No School for Students
DESCRIPTION:
URL:https://www.saugususd.org/calendar-event/parent-conferences-no-school-for-students
END:VEVENT
BEGIN:VEVENT
DTSTART;VALUE=DATE:20251120
DTEND;VALUE=DATE:20251121
DTSTAMP:20260419T125811
CREATED:20250108T010354Z
LAST-MODIFIED:20250108T013212Z
UID:10000144-1763596800-1763683199@www.saugususd.org
SUMMARY:Minimum Day - Parent Conferences
DESCRIPTION:
URL:https://www.saugususd.org/calendar-event/minimum-day-4
END:VEVENT
BEGIN:VEVENT
DTSTART;VALUE=DATE:20251121
DTEND;VALUE=DATE:20251122
DTSTAMP:20260419T125811
CREATED:20250108T010442Z
LAST-MODIFIED:20250108T013310Z
UID:10000145-1763683200-1763769599@www.saugususd.org
SUMMARY:Minimum Day - Parent Conferences
DESCRIPTION:
URL:https://www.saugususd.org/calendar-event/minimum-day-5
END:VEVENT
BEGIN:VEVENT
DTSTART;VALUE=DATE:20251124
DTEND;VALUE=DATE:20251129
DTSTAMP:20260419T125811
CREATED:20250108T010538Z
LAST-MODIFIED:20250108T010538Z
UID:10000146-1763942400-1764374399@www.saugususd.org
SUMMARY:Thanksgiving Break - No School
DESCRIPTION:
URL:https://www.saugususd.org/calendar-event/thanksgiving-break-no-school
END:VEVENT
BEGIN:VEVENT
DTSTART;VALUE=DATE:20251126
DTEND;VALUE=DATE:20251129
DTSTAMP:20260419T125811
CREATED:20250108T010639Z
LAST-MODIFIED:20250108T010639Z
UID:10000147-1764115200-1764374399@www.saugususd.org
SUMMARY:Thanksgiving Break - District Closed
DESCRIPTION:
URL:https://www.saugususd.org/calendar-event/thanksgiving-break-district-closed
END:VEVENT
BEGIN:VEVENT
DTSTART;VALUE=DATE:20251203
DTEND;VALUE=DATE:20251204
DTSTAMP:20260419T125811
CREATED:20250108T010801Z
LAST-MODIFIED:20250108T013620Z
UID:10000148-1764720000-1764806399@www.saugususd.org
SUMMARY:Early Release Wednesday
DESCRIPTION:
URL:https://www.saugususd.org/calendar-event/early-release-4/2025-12-03
END:VEVENT
BEGIN:VEVENT
DTSTART;TZID=America/Los_Angeles:20251203T183000
DTEND;TZID=America/Los_Angeles:20251203T183000
DTSTAMP:20260419T125811
CREATED:20250303T215936Z
LAST-MODIFIED:20250303T215936Z
UID:10000234-1764786600-1764786600@www.saugususd.org
SUMMARY:Black and African American Family Focus Support Group
DESCRIPTION:Coming together to create a safe supportive place to connect with other families of children\, young and old\, with special needs\, share resources\, provide advocacy\, and be a part of an inclusive community. Join us at 6:30 p.m. via Zoom the first Wednesday of the month. Visit the CSUN Family Focus Resource Center for more information.
URL:https://www.saugususd.org/calendar-event/black-and-african-american-family-focus-support-group/2025-12-03
END:VEVENT
BEGIN:VEVENT
DTSTART;VALUE=DATE:20251210
DTEND;VALUE=DATE:20251211
DTSTAMP:20260419T125811
CREATED:20250108T010801Z
LAST-MODIFIED:20250108T013620Z
UID:10000149-1765324800-1765411199@www.saugususd.org
SUMMARY:Early Release Wednesday
DESCRIPTION:
URL:https://www.saugususd.org/calendar-event/early-release-4/2025-12-10
END:VEVENT
BEGIN:VEVENT
DTSTART;TZID=America/Los_Angeles:20251210T173000
DTEND;TZID=America/Los_Angeles:20251210T173000
DTSTAMP:20260419T125811
CREATED:20250109T231704Z
LAST-MODIFIED:20251205T182850Z
UID:10000218-1765387800-1765387800@www.saugususd.org
SUMMARY:Special Governing Board Meeting
DESCRIPTION:
URL:https://www.saugususd.org/calendar-event/governing-board-meeting-organizational-meeting
LOCATION:24930 Avenue Stanford\, Santa Clarita\, CA\, 24930 Avenue Stanford\, Santa Clarita\, CA
END:VEVENT
BEGIN:VEVENT
DTSTART;TZID=America/Los_Angeles:20251216T183000
DTEND;TZID=America/Los_Angeles:20251216T183000
DTSTAMP:20260419T125811
CREATED:20251023T205806Z
LAST-MODIFIED:20251205T182722Z
UID:10000263-1765909800-1765909800@www.saugususd.org
SUMMARY:Governing Board Meeting - Organizational Meeting
DESCRIPTION:
URL:https://www.saugususd.org/calendar-event/governing-board-meeting-23
LOCATION:24930 Avenue Stanford\, Santa Clarita\, CA\, 24930 Avenue Stanford\, Santa Clarita\, CA
END:VEVENT
BEGIN:VEVENT
DTSTART;VALUE=DATE:20251217
DTEND;VALUE=DATE:20251218
DTSTAMP:20260419T125811
CREATED:20250108T010801Z
LAST-MODIFIED:20250108T013620Z
UID:10000150-1765929600-1766015999@www.saugususd.org
SUMMARY:Early Release Wednesday
DESCRIPTION:
URL:https://www.saugususd.org/calendar-event/early-release-4/2025-12-17
END:VEVENT
END:VCALENDAR