BEGIN:VCALENDAR
VERSION:2.0
PRODID:-//Saugus Union School District - ECPv6.15.17.1//NONSGML v1.0//EN
CALSCALE:GREGORIAN
METHOD:PUBLISH
X-WR-CALNAME:Saugus Union School District
X-ORIGINAL-URL:https://www.saugususd.org
X-WR-CALDESC:Events for Saugus Union School District
REFRESH-INTERVAL;VALUE=DURATION:PT1H
X-Robots-Tag:noindex
X-PUBLISHED-TTL:PT1H
BEGIN:VTIMEZONE
TZID:America/Los_Angeles
BEGIN:DAYLIGHT
TZOFFSETFROM:-0800
TZOFFSETTO:-0700
TZNAME:PDT
DTSTART:20250309T100000
END:DAYLIGHT
BEGIN:STANDARD
TZOFFSETFROM:-0700
TZOFFSETTO:-0800
TZNAME:PST
DTSTART:20251102T090000
END:STANDARD
BEGIN:DAYLIGHT
TZOFFSETFROM:-0800
TZOFFSETTO:-0700
TZNAME:PDT
DTSTART:20260308T100000
END:DAYLIGHT
BEGIN:STANDARD
TZOFFSETFROM:-0700
TZOFFSETTO:-0800
TZNAME:PST
DTSTART:20261101T090000
END:STANDARD
BEGIN:DAYLIGHT
TZOFFSETFROM:-0800
TZOFFSETTO:-0700
TZNAME:PDT
DTSTART:20270314T100000
END:DAYLIGHT
BEGIN:STANDARD
TZOFFSETFROM:-0700
TZOFFSETTO:-0800
TZNAME:PST
DTSTART:20271107T090000
END:STANDARD
END:VTIMEZONE
BEGIN:VEVENT
DTSTART;VALUE=DATE:20260812
DTEND;VALUE=DATE:20260813
DTSTAMP:20260419T212939
CREATED:20251122T041136Z
LAST-MODIFIED:20251122T041136Z
UID:10000331-1786492800-1786579199@www.saugususd.org
SUMMARY:Students Return
DESCRIPTION:
URL:https://www.saugususd.org/calendar-event/students-return-2
END:VEVENT
BEGIN:VEVENT
DTSTART;VALUE=DATE:20260812
DTEND;VALUE=DATE:20260813
DTSTAMP:20260419T212939
CREATED:20251122T032028Z
LAST-MODIFIED:20251122T032028Z
UID:10000270-1786492800-1786579199@www.saugususd.org
SUMMARY:Minimum Day
DESCRIPTION:
URL:https://www.saugususd.org/calendar-event/minimum-day-8/2026-08-12
END:VEVENT
BEGIN:VEVENT
DTSTART;VALUE=DATE:20260810
DTEND;VALUE=DATE:20260812
DTSTAMP:20260419T212939
CREATED:20251122T031833Z
LAST-MODIFIED:20251122T031833Z
UID:10000269-1786320000-1786492799@www.saugususd.org
SUMMARY:Staff Development Day
DESCRIPTION:
URL:https://www.saugususd.org/calendar-event/staff-development-day-5
END:VEVENT
BEGIN:VEVENT
DTSTART;VALUE=DATE:20260806
DTEND;VALUE=DATE:20260808
DTSTAMP:20260419T212940
CREATED:20251122T031727Z
LAST-MODIFIED:20251122T031727Z
UID:10000268-1785974400-1786147199@www.saugususd.org
SUMMARY:Staff Development Day
DESCRIPTION:
URL:https://www.saugususd.org/calendar-event/staff-development-day-4
END:VEVENT
BEGIN:VEVENT
DTSTART;VALUE=DATE:20260806
DTEND;VALUE=DATE:20260807
DTSTAMP:20260419T212940
CREATED:20251122T031613Z
LAST-MODIFIED:20251122T031613Z
UID:10000267-1785974400-1786060799@www.saugususd.org
SUMMARY:Teachers Return
DESCRIPTION:
URL:https://www.saugususd.org/calendar-event/teachers-return
END:VEVENT
BEGIN:VEVENT
DTSTART;TZID=America/Los_Angeles:20260804T183000
DTEND;TZID=America/Los_Angeles:20260804T183000
DTSTAMP:20260419T212940
CREATED:20251218T205748Z
LAST-MODIFIED:20251218T205748Z
UID:10000349-1785868200-1785868200@www.saugususd.org
SUMMARY:Governing Board Meeting
DESCRIPTION:
URL:https://www.saugususd.org/calendar-event/governing-board-meeting-35
LOCATION:Education Center
END:VEVENT
BEGIN:VEVENT
DTSTART;VALUE=DATE:20260804
DTEND;VALUE=DATE:20260806
DTSTAMP:20260419T212940
CREATED:20251122T031456Z
LAST-MODIFIED:20251122T031456Z
UID:10000266-1785801600-1785974399@www.saugususd.org
SUMMARY:New Teacher Orientation
DESCRIPTION:
URL:https://www.saugususd.org/calendar-event/new-teacher-orientation
END:VEVENT
BEGIN:VEVENT
DTSTART;TZID=America/Los_Angeles:20260721T183000
DTEND;TZID=America/Los_Angeles:20260721T183000
DTSTAMP:20260419T212940
CREATED:20251218T205712Z
LAST-MODIFIED:20251218T205712Z
UID:10000348-1784658600-1784658600@www.saugususd.org
SUMMARY:Governing Board Meeting
DESCRIPTION:
URL:https://www.saugususd.org/calendar-event/governing-board-meeting-34
LOCATION:Education Center
END:VEVENT
BEGIN:VEVENT
DTSTART;VALUE=DATE:20260703
DTEND;VALUE=DATE:20260704
DTSTAMP:20260419T212940
CREATED:20251122T031334Z
LAST-MODIFIED:20251122T031334Z
UID:10000265-1783036800-1783123199@www.saugususd.org
SUMMARY:Independence Day Observed - District Closed
DESCRIPTION:
URL:https://www.saugususd.org/calendar-event/independence-day-observed-district-closed
END:VEVENT
BEGIN:VEVENT
DTSTART;TZID=America/Los_Angeles:20260630T183000
DTEND;TZID=America/Los_Angeles:20260630T183000
DTSTAMP:20260419T212940
CREATED:20251218T205636Z
LAST-MODIFIED:20251218T205636Z
UID:10000347-1782844200-1782844200@www.saugususd.org
SUMMARY:Governing Board Meeting
DESCRIPTION:
URL:https://www.saugususd.org/calendar-event/governing-board-meeting-33
LOCATION:Education Center
END:VEVENT
BEGIN:VEVENT
DTSTART;VALUE=DATE:20260619
DTEND;VALUE=DATE:20260620
DTSTAMP:20260419T212940
CREATED:20250108T012731Z
LAST-MODIFIED:20250108T012731Z
UID:10000187-1781827200-1781913599@www.saugususd.org
SUMMARY:Juneteenth - District Closed
DESCRIPTION:
URL:https://www.saugususd.org/calendar-event/juneteenth-district-closed
END:VEVENT
BEGIN:VEVENT
DTSTART;VALUE=DATE:20260612
DTEND;VALUE=DATE:20260613
DTSTAMP:20260419T212940
CREATED:20250108T012543Z
LAST-MODIFIED:20250108T012543Z
UID:10000186-1781222400-1781308799@www.saugususd.org
SUMMARY:Last Day of School - Minimum Day
DESCRIPTION:
URL:https://www.saugususd.org/calendar-event/last-day-of-school-minimum-day
END:VEVENT
BEGIN:VEVENT
DTSTART;VALUE=DATE:20260610
DTEND;VALUE=DATE:20260611
DTSTAMP:20260419T212940
CREATED:20250108T012216Z
LAST-MODIFIED:20250108T014021Z
UID:10000182-1781049600-1781135999@www.saugususd.org
SUMMARY:Early Release Wednesday
DESCRIPTION:
URL:https://www.saugususd.org/calendar-event/early-release-6/2026-06-10
END:VEVENT
BEGIN:VEVENT
DTSTART;VALUE=DATE:20260603
DTEND;VALUE=DATE:20260604
DTSTAMP:20260419T212940
CREATED:20250108T012216Z
LAST-MODIFIED:20250108T014021Z
UID:10000181-1780444800-1780531199@www.saugususd.org
SUMMARY:Early Release Wednesday
DESCRIPTION:
URL:https://www.saugususd.org/calendar-event/early-release-6/2026-06-03
END:VEVENT
BEGIN:VEVENT
DTSTART;TZID=America/Los_Angeles:20260602T183000
DTEND;TZID=America/Los_Angeles:20260602T183000
DTSTAMP:20260419T212940
CREATED:20251218T205550Z
LAST-MODIFIED:20251218T205550Z
UID:10000346-1780425000-1780425000@www.saugususd.org
SUMMARY:Governing Board Meeting
DESCRIPTION:
URL:https://www.saugususd.org/calendar-event/governing-board-meeting-32
LOCATION:Education Center
END:VEVENT
BEGIN:VEVENT
DTSTART;VALUE=DATE:20260527
DTEND;VALUE=DATE:20260528
DTSTAMP:20260419T212940
CREATED:20250108T012216Z
LAST-MODIFIED:20250108T014021Z
UID:10000180-1779840000-1779926399@www.saugususd.org
SUMMARY:Early Release Wednesday
DESCRIPTION:
URL:https://www.saugususd.org/calendar-event/early-release-6/2026-05-27
END:VEVENT
BEGIN:VEVENT
DTSTART;VALUE=DATE:20260526
DTEND;VALUE=DATE:20260527
DTSTAMP:20260419T212940
CREATED:20250108T014131Z
LAST-MODIFIED:20250108T014131Z
UID:10000188-1779753600-1779839999@www.saugususd.org
SUMMARY:Record Keeping Day
DESCRIPTION:
URL:https://www.saugususd.org/calendar-event/record-keeping-day
END:VEVENT
BEGIN:VEVENT
DTSTART;VALUE=DATE:20260526
DTEND;VALUE=DATE:20260527
DTSTAMP:20260419T212940
CREATED:20250108T012407Z
LAST-MODIFIED:20250108T012407Z
UID:10000184-1779753600-1779839999@www.saugususd.org
SUMMARY:Minimum Day
DESCRIPTION:
URL:https://www.saugususd.org/calendar-event/minimum-day-7
END:VEVENT
BEGIN:VEVENT
DTSTART;VALUE=DATE:20260525
DTEND;VALUE=DATE:20260526
DTSTAMP:20260419T212940
CREATED:20250108T012322Z
LAST-MODIFIED:20250108T012322Z
UID:10000183-1779667200-1779753599@www.saugususd.org
SUMMARY:Memorial Day - No School (District Closed)
DESCRIPTION:
URL:https://www.saugususd.org/calendar-event/memorial-day-no-school-district-closed
END:VEVENT
BEGIN:VEVENT
DTSTART;VALUE=DATE:20260520
DTEND;VALUE=DATE:20260521
DTSTAMP:20260419T212940
CREATED:20250108T012216Z
LAST-MODIFIED:20250108T014021Z
UID:10000179-1779235200-1779321599@www.saugususd.org
SUMMARY:Early Release Wednesday
DESCRIPTION:
URL:https://www.saugususd.org/calendar-event/early-release-6/2026-05-20
END:VEVENT
BEGIN:VEVENT
DTSTART;TZID=America/Los_Angeles:20260519T183000
DTEND;TZID=America/Los_Angeles:20260519T183000
DTSTAMP:20260419T212940
CREATED:20251218T205524Z
LAST-MODIFIED:20251218T205524Z
UID:10000345-1779215400-1779215400@www.saugususd.org
SUMMARY:Governing Board Meeting
DESCRIPTION:
URL:https://www.saugususd.org/calendar-event/governing-board-meeting-31
LOCATION:Education Center
END:VEVENT
BEGIN:VEVENT
DTSTART;VALUE=DATE:20260513
DTEND;VALUE=DATE:20260514
DTSTAMP:20260419T212940
CREATED:20250108T012216Z
LAST-MODIFIED:20250108T014021Z
UID:10000178-1778630400-1778716799@www.saugususd.org
SUMMARY:Early Release Wednesday
DESCRIPTION:
URL:https://www.saugususd.org/calendar-event/early-release-6/2026-05-13
END:VEVENT
BEGIN:VEVENT
DTSTART;TZID=America/Los_Angeles:20260511T180000
DTEND;TZID=America/Los_Angeles:20260511T180000
DTSTAMP:20260419T212940
CREATED:20250518T122454Z
LAST-MODIFIED:20250915T234922Z
UID:10000249-1778522400-1778522400@www.saugususd.org
SUMMARY:CAC Meeting
DESCRIPTION:Virtual Google Meet
URL:https://www.saugususd.org/calendar-event/cac-meeting-4
END:VEVENT
BEGIN:VEVENT
DTSTART;TZID=America/Los_Angeles:20260511T120000
DTEND;TZID=America/Los_Angeles:20260511T120000
DTSTAMP:20260419T212940
CREATED:20250518T124518Z
LAST-MODIFIED:20250915T235133Z
UID:10000253-1778500800-1778500800@www.saugususd.org
SUMMARY:Lunchtime Parent Workshop: SSUSD Understanding Speech Disorders
DESCRIPTION:Presented by: Shari Costanzo\nVirtual Google Meet
URL:https://www.saugususd.org/calendar-event/lunchtime-parent-workshop-ssusd-understanding-speech-disorders
END:VEVENT
BEGIN:VEVENT
DTSTART;VALUE=DATE:20260506
DTEND;VALUE=DATE:20260507
DTSTAMP:20260419T212940
CREATED:20250108T012216Z
LAST-MODIFIED:20250108T014021Z
UID:10000177-1778025600-1778111999@www.saugususd.org
SUMMARY:Early Release Wednesday
DESCRIPTION:
URL:https://www.saugususd.org/calendar-event/early-release-6/2026-05-06
END:VEVENT
BEGIN:VEVENT
DTSTART;TZID=America/Los_Angeles:20260505T183000
DTEND;TZID=America/Los_Angeles:20260505T183000
DTSTAMP:20260419T212940
CREATED:20251218T205438Z
LAST-MODIFIED:20251218T205438Z
UID:10000344-1778005800-1778005800@www.saugususd.org
SUMMARY:Governing Board Meeting
DESCRIPTION:
URL:https://www.saugususd.org/calendar-event/governing-board-meeting-30
LOCATION:Education Center
END:VEVENT
BEGIN:VEVENT
DTSTART;VALUE=DATE:20260429
DTEND;VALUE=DATE:20260430
DTSTAMP:20260419T212940
CREATED:20250108T012216Z
LAST-MODIFIED:20250108T014021Z
UID:10000176-1777420800-1777507199@www.saugususd.org
SUMMARY:Early Release Wednesday
DESCRIPTION:
URL:https://www.saugususd.org/calendar-event/early-release-6/2026-04-29
END:VEVENT
BEGIN:VEVENT
DTSTART;VALUE=DATE:20260423
DTEND;VALUE=DATE:20260424
DTSTAMP:20260419T212940
CREATED:20260416T000756Z
LAST-MODIFIED:20260416T000756Z
UID:10000358-1776902400-1776988799@www.saugususd.org
SUMMARY:Meet the New Superintendent - Community Chat
DESCRIPTION:
URL:https://www.saugususd.org/calendar-event/meet-the-new-superintendent-community-chat
END:VEVENT
BEGIN:VEVENT
DTSTART;TZID=America/Los_Angeles:20260422T180000
DTEND;TZID=America/Los_Angeles:20260422T180000
DTSTAMP:20260419T212940
CREATED:20251218T205408Z
LAST-MODIFIED:20260219T024449Z
UID:10000343-1776880800-1776880800@www.saugususd.org
SUMMARY:Cancelled - Special Governing Board Meeting
DESCRIPTION:
URL:https://www.saugususd.org/calendar-event/special-governing-board-meeting-15
LOCATION:Education Center
END:VEVENT
BEGIN:VEVENT
DTSTART;VALUE=DATE:20260422
DTEND;VALUE=DATE:20260423
DTSTAMP:20260419T212940
CREATED:20250108T012216Z
LAST-MODIFIED:20250108T014021Z
UID:10000175-1776816000-1776902399@www.saugususd.org
SUMMARY:Early Release Wednesday
DESCRIPTION:
URL:https://www.saugususd.org/calendar-event/early-release-6/2026-04-22
END:VEVENT
END:VCALENDAR